Workbook

Sheet Table of Contents
B11: Final Estimates of ARC-CO and PLC Payments for Crop Year 2024
B13: RaFF Policy Brief 2026-2(1)
B15: Table 1
B16: Table 2
B17: Table 3

Sheet Table 1
A1: Table 1. Enrolled Base Acres for Crop Year 2024 by Commodity and State | I1: TOC
A2: State | B2: Barley | D2: Canola | F2: Chickpeas (Large) | H2: Chickpeas (Small) | J2: Corn | L2: Crambe | N2: Dry Peas | P2: Flaxseed | R2: Grain Sorghum | T2: Lentils | V2: Mustard Seed | X2: Oats | Z2: Peanuts | AB2: Rapeseed | AD2: Rice (Long Grain) | AF2: Rice (Med/Short Grain) | AH2: Rice (Temperate Japonica) | AJ2: Safflower | AL2: Seed Cotton | AN2: Sesame Seed | AP2: Soybeans | AR2: Sunflower Seed | AT2: Wheat | AV2: State Total
B3: ARC-CO | C3: PLC | D3: ARC-CO | E3: PLC | F3: ARC-CO | G3: PLC | H3: ARC-CO | I3: PLC | J3: ARC-CO | K3: PLC | L3: ARC-CO | M3: PLC | N3: ARC-CO | O3: PLC | P3: ARC-CO | Q3: PLC | R3: ARC-CO | S3: PLC | T3: ARC-CO | U3: PLC | V3: ARC-CO | W3: PLC | X3: ARC-CO | Y3: PLC | Z3: ARC-CO | AA3: PLC | AB3: ARC-CO | AC3: PLC | AD3: ARC-CO | AE3: PLC | AF3: ARC-CO | AG3: PLC | AH3: ARC-CO | AI3: PLC | AJ3: ARC-CO | AK3: PLC | AL3: ARC-CO | AM3: PLC | AN3: ARC-CO | AO3: PLC | AP3: ARC-CO | AQ3: PLC | AR3: ARC-CO | AS3: PLC | AT3: ARC-CO | AU3: PLC | AV3: ARC-CO | AW3: PLC | AX3: Total
A4: Alabama | B4: 151.71 | C4: 0 | D4: 137.14 | E4: 252.69 | F4: 0 | G4: 0 | H4: 0 | I4: 0 | J4: 117320.74 | K4: 74801.91 | L4: 0 | M4: 0 | N4: 0 | O4: 0 | P4: 0 | Q4: 0 | R4: 5759.93 | S4: 12849.78 | T4: 0 | U4: 0 | V4: 0 | W4: 0 | X4: 4432.67 | Y4: 9286.57 | Z4: 91.57 | AA4: 304069 | AB4: 0 | AC4: 0 | AD4: 0 | AE4: 0 | AF4: 0 | AG4: 0 | AH4: 0 | AI4: 0 | AJ4: 0 | AK4: 0 | AL4: 135630.28 | AM4: 166806.92 | AN4: 0 | AO4: 0 | AP4: 110406.54 | AQ4: 21169.27 | AR4: 49.45 | AS4: 68.99 | AT4: 44365.47 | AU4: 84786.76 | AV4: 418345.5 | AW4: 674091.89 | AX4: =SUM(AV4:AW4) -> 1092437.4
A5: Arizona | B5: 0 | C5: 28714.82 | D5: 0 | E5: 250.41 | F5: 0 | G5: 1247.7 | H5: 0 | I5: 0 | J5: 0 | K5: 48990.35 | L5: 0 | M5: 0 | N5: 0 | O5: 35.14 | P5: 0 | Q5: 0 | R5: 0 | S5: 11288.03 | T5: 0 | U5: 0 | V5: 0 | W5: 6.43 | X5: 152.94 | Y5: 4798.08 | Z5: 0 | AA5: 0 | AB5: 0 | AC5: 0 | AD5: 0 | AE5: 0 | AF5: 0 | AG5: 0 | AH5: 0 | AI5: 0 | AJ5: 0 | AK5: 779.93 | AL5: 0 | AM5: 233920.75 | AN5: 0 | AO5: 4.31 | AP5: 0 | AQ5: 5.16 | AR5: 0 | AS5: 0 | AT5: 261.63 | AU5: 101680.61 | AV5: 414.57 | AW5: 431721.72 | AX5: =SUM(AV5:AW5) -> 432136.29
A6: Arkansas | B6: 9.4 | C6: 3.8 | D6: 0 | E6: 1.17 | F6: 0 | G6: 0 | H6: 0 | I6: 0 | J6: 143077.83 | K6: 104321.59 | L6: 0 | M6: 0 | N6: 0 | O6: 0 | P6: 0 | Q6: 0 | R6: 95454.79 | S6: 104555.65 | T6: 0 | U6: 0 | V6: 0 | W6: 0 | X6: 5279.67 | Y6: 4984.33 | Z6: 120.41 | AA6: 5143.94 | AB6: 0 | AC6: 0 | AD6: 6944.93 | AE6: 1906679 | AF6: 929.64 | AG6: 149350.31 | AH6: 0 | AI6: 0 | AJ6: 1.92 | AK6: 2.5 | AL6: 16777.96 | AM6: 606420.64 | AN6: 0 | AO6: 0 | AP6: 2149801.3 | AQ6: 168161.05 | AR6: 179.25 | AS6: 170.58 | AT6: 309911.28 | AU6: 483591.13 | AV6: 2728488.4 | AW6: 3533385.7 | AX6: =SUM(AV6:AW6) -> 6261874.1
A7: California | B7: 4895.74 | C7: 91977.34 | D7: 0 | E7: 145.86 | F7: 107.85 | G7: 2765.34 | H7: 0 | I7: 0 | J7: 21354.52 | K7: 245116.61 | L7: 0 | M7: 0 | N7: 0 | O7: 0 | P7: 0 | Q7: 0 | R7: 72.44 | S7: 6888.71 | T7: 0 | U7: 0 | V7: 0 | W7: 0 | X7: 5100.03 | Y7: 54319.97 | Z7: 0 | AA7: 0 | AB7: 0 | AC7: 0 | AD7: 296.88 | AE7: 1698.02 | AF7: 0 | AG7: 0 | AH7: 120774.82 | AI7: 354684.02 | AJ7: 1130.42 | AK7: 15471.89 | AL7: 17010.46 | AM7: 290389.9 | AN7: 0 | AO7: 0 | AP7: 0 | AQ7: 0 | AR7: 335.99 | AS7: 4602.58 | AT7: 10968.12 | AU7: 360236.04 | AV7: 182047.27 | AW7: 1428296.3 | AX7: =SUM(AV7:AW7) -> 1610343.6
A8: Colorado | B8: 20717.59 | C8: 90236.4 | D8: 100.8 | E8: 1282.63 | F8: 0 | G8: 0 | H8: 0 | I8: 0 | J8: 699396.24 | K8: 600973.49 | L8: 0 | M8: 0 | N8: 164.7 | O8: 409.58 | P8: 9.49 | Q8: 0 | R8: 63466.17 | S8: 164394.44 | T8: 0 | U8: 0 | V8: 0 | W8: 0 | X8: 11723.68 | Y8: 13837.23 | Z8: 0 | AA8: 0 | AB8: 0 | AC8: 0 | AD8: 0 | AE8: 0 | AF8: 0 | AG8: 0 | AH8: 0 | AI8: 0 | AJ8: 650.62 | AK8: 429.91 | AL8: 0 | AM8: 0 | AN8: 0 | AO8: 0 | AP8: 3282.54 | AQ8: 3128.65 | AR8: 27198.53 | AS8: 55729.99 | AT8: 883211.79 | AU8: 1825377 | AV8: 1709922.2 | AW8: 2755799.4 | AX8: =SUM(AV8:AW8) -> 4465721.5
A9: Connecticut | B9: 0 | C9: 0 | D9: 0 | E9: 0 | F9: 0 | G9: 0 | H9: 0 | I9: 0 | J9: 11977.96 | K9: 8457.68 | L9: 0 | M9: 0 | N9: 0 | O9: 0 | P9: 0 | Q9: 0 | R9: 0 | S9: 4.14 | T9: 0 | U9: 0 | V9: 0 | W9: 0 | X9: 0 | Y9: 0 | Z9: 0 | AA9: 0 | AB9: 0 | AC9: 0 | AD9: 0 | AE9: 0 | AF9: 0 | AG9: 0 | AH9: 0 | AI9: 0 | AJ9: 0 | AK9: 0 | AL9: 0 | AM9: 0 | AN9: 0 | AO9: 0 | AP9: 0 | AQ9: 0 | AR9: 0 | AS9: 0 | AT9: 0 | AU9: 0 | AV9: 11977.96 | AW9: 8461.82 | AX9: =SUM(AV9:AW9) -> 20439.78
A10: Delaware | B10: 4887.11 | C10: 12906.29 | D10: 0 | E10: 0 | F10: 0 | G10: 0 | H10: 0 | I10: 0 | J10: 124019.22 | K10: 26177.97 | L10: 0 | M10: 0 | N10: 0 | O10: 0 | P10: 0 | Q10: 0 | R10: 771.86 | S10: 518.16 | T10: 0 | U10: 0 | V10: 0 | W10: 0 | X10: 41.12 | Y10: 33.86 | Z10: 0 | AA10: 0 | AB10: 0 | AC10: 0 | AD10: 0 | AE10: 0 | AF10: 0 | AG10: 0 | AH10: 0 | AI10: 0 | AJ10: 0 | AK10: 0 | AL10: 0 | AM10: 0 | AN10: 0 | AO10: 0 | AP10: 103935.61 | AQ10: 10236.13 | AR10: 42.9 | AS10: 3.04 | AT10: 15256.88 | AU10: 27808.42 | AV10: 248954.7 | AW10: 77683.87 | AX10: =SUM(AV10:AW10) -> 326638.57
A11: Florida | B11: 0 | C11: 0 | D11: 0 | E11: 0 | F11: 0 | G11: 0 | H11: 0 | I11: 0 | J11: 29196 | K11: 14329.28 | L11: 0 | M11: 0 | N11: 0 | O11: 0 | P11: 0 | Q11: 0 | R11: 1819.67 | S11: 1422.13 | T11: 0 | U11: 0 | V11: 0 | W11: 0 | X11: 5250.45 | Y11: 1584.79 | Z11: 141.02 | AA11: 162979.84 | AB11: 0 | AC11: 0 | AD11: 0 | AE11: 124.8 | AF11: 0 | AG11: 0 | AH11: 0 | AI11: 0 | AJ11: 0 | AK11: 0 | AL11: 236.52 | AM11: 31290.52 | AN11: 0 | AO11: 0 | AP11: 10446.94 | AQ11: 1181.53 | AR11: 16.89 | AS11: 44.07 | AT11: 9436.69 | AU11: 4142.51 | AV11: 56544.18 | AW11: 217099.47 | AX11: =SUM(AV11:AW11) -> 273643.65
A12: Georgia | B12: 741.7 | C12: 1154.73 | D12: 22.62 | E12: 191.72 | F12: 0 | G12: 0 | H12: 0 | I12: 0 | J12: 165771.49 | K12: 209129.16 | L12: 0 | M12: 0 | N12: 0 | O12: 0 | P12: 0 | Q12: 0 | R12: 12102.32 | S12: 26888.11 | T12: 0 | U12: 0 | V12: 0 | W12: 0 | X12: 11237.49 | Y12: 18858.57 | Z12: 709.52 | AA12: 958983.7 | AB12: 0 | AC12: 0 | AD12: 0 | AE12: 0 | AF12: 0 | AG12: 0 | AH12: 0 | AI12: 0 | AJ12: 0 | AK12: 0 | AL12: 63281.24 | AM12: 336897.47 | AN12: 0 | AO12: 0 | AP12: 79032.91 | AQ12: 63082.68 | AR12: 450.22 | AS12: 1219.89 | AT12: 76433.54 | AU12: 204459.89 | AV12: 409783.05 | AW12: 1820865.9 | AX12: =SUM(AV12:AW12) -> 2230649
A13: Idaho | B13: 77605.12 | C13: 669776.11 | D13: 7522.03 | E13: 14632.4 | F13: 17502.08 | G13: 4377.14 | H13: 9116.84 | I13: 2312.06 | J13: 31108.38 | K13: 153615.27 | L13: 0 | M13: 0 | N13: 18586.3 | O13: 11495.93 | P13: 47.16 | Q13: 140.12 | R13: 0 | S13: 65.17 | T13: 22433.04 | U13: 8613.6 | V13: 337.33 | W13: 885.19 | X13: 5437.41 | Y13: 25893.93 | Z13: 0 | AA13: 0 | AB13: 699.92 | AC13: 334.29 | AD13: 0 | AE13: 0 | AF13: 0 | AG13: 0 | AH13: 0 | AI13: 0 | AJ13: 330.47 | AK13: 2213.47 | AL13: 0 | AM13: 0 | AN13: 0 | AO13: 0 | AP13: 0 | AQ13: 0.34 | AR13: 0 | AS13: 0 | AT13: 365302.1 | AU13: 1176076.3 | AV13: 556028.18 | AW13: 2070431.4 | AX13: =SUM(AV13:AW13) -> 2626459.5
A14: Illinois | B14: 854.74 | C14: 221.78 | D14: 0 | E14: 37.61 | F14: 0 | G14: 0 | H14: 0 | I14: 0 | J14: 9508661.3 | K14: 3356379 | L14: 0 | M14: 0 | N14: 0 | O14: 0 | P14: 3.2 | Q14: 0 | R14: 37470.38 | S14: 32593.11 | T14: 0 | U14: 0 | V14: 0 | W14: 0 | X14: 14873.42 | Y14: 5368.95 | Z14: 0 | AA14: 0 | AB14: 0 | AC14: 0 | AD14: 0 | AE14: 779.14 | AF14: 0 | AG14: 0 | AH14: 0 | AI14: 0 | AJ14: 0 | AK14: 0 | AL14: 0 | AM14: 0 | AN14: 0 | AO14: 0 | AP14: 6233065.8 | AQ14: 734475.61 | AR14: 464.67 | AS14: 239.4 | AT14: 389210.53 | AU14: 469450.38 | AV14: 16184604 | AW14: 4599545 | AX14: =SUM(AV14:AW14) -> 20784149
A15: Indiana | B15: 266.05 | C15: 224.18 | D15: 0 | E15: 0 | F15: 0 | G15: 0 | H15: 0 | I15: 0 | J15: 4566102.4 | K15: 1895044.7 | L15: 0 | M15: 0 | N15: 0 | O15: 0 | P15: 0 | Q15: 0 | R15: 3368.57 | S15: 1333.96 | T15: 0 | U15: 0 | V15: 0 | W15: 0 | X15: 4085.55 | Y15: 2162.4 | Z15: 0 | AA15: 0 | AB15: 0 | AC15: 0 | AD15: 0 | AE15: 0 | AF15: 0 | AG15: 0 | AH15: 0 | AI15: 0 | AJ15: 0 | AK15: 0 | AL15: 0 | AM15: 0 | AN15: 0 | AO15: 0 | AP15: 3095716.4 | AQ15: 536508.89 | AR15: 7.45 | AS15: 7.79 | AT15: 290742.73 | AU15: 163061.16 | AV15: 7960289.2 | AW15: 2598343.1 | AX15: =SUM(AV15:AW15) -> 10558632
... A51: Wyoming | B51: 8556.15 | C51: 68575.35 | D51: 0 | E51: 0 | F51: 0 | G51: 0 | H51: 0 | I51: 0 | J51: 34915.63 | K51: 47804.09 | L51: 0 | M51: 0 | N51: 321.84 | O51: 98.86 | P51: 0 | Q51: 0 | R51: 26.39 | S51: 138.36 | T51: 0 | U51: 0 | V51: 0 | W51: 0 | X51: 5727.92 | Y51: 20630.68 | Z51: 0 | AA51: 0 | AB51: 0 | AC51: 0 | AD51: 0 | AE51: 0 | AF51: 0 | AG51: 0 | AH51: 0 | AI51: 0 | AJ51: 0 | AK51: 153.48 | AL51: 0 | AM51: 0 | AN51: 0 | AO51: 0 | AP51: 0 | AQ51: 0 | AR51: 1727.97 | AS51: 4267.13 | AT51: 35250.17 | AU51: 218940.54 | AV51: 86526.07 | AW51: 360608.49 | AX51: =SUM(AV51:AW51) -> 447134.56
A52: US Total | B52: 1995080.5 | C52: 3321552.4 | D52: 578278.43 | E52: 868238.19 | F52: 50481.68 | G52: 14024.35 | H52: 14873.82 | I52: 3640.34 | J52: 70905376 | K52: 21531162 | L52: 1424.63 | M52: 474.35 | N52: 257381.65 | O52: 154119.74 | P52: 136372.6 | Q52: 87464.48 | R52: 4536477.3 | S52: 3936178 | T52: 169297.91 | U52: 92511.27 | V52: 12538.07 | W52: 8493.74 | X52: 1264158.6 | Y52: 772913 | Z52: 73894.63 | AA52: 2281547.5 | AB52: 847.76 | AC52: 637.29 | AD52: 21600.13 | AE52: 3813996.3 | AF52: 937.84 | AG52: 168038.11 | AH52: 120774.82 | AI52: 354684.02 | AJ52: 25554.52 | AK52: 44298.32 | AL52: 2197510.7 | AM52: 5637116.2 | AN52: 2422.35 | AO52: 1670.13 | AP52: 47375955 | AQ52: 5110406.4 | AR52: 911824.76 | AS52: 682278.23 | AT52: 30216218 | AU52: 31640571 | AV52: =SUM(AV4:AV51) -> 1.6086928e+08 | AW52: =SUM(AW4:AW51) -> 80526015 | AX52: =SUM(AV52:AW52) -> 2.413953e+08

Sheet Table 2
A1: Table 2. ARC-CO and PLC Payments for Crop Year 2024 by Commodity and State | I1: TOC
A2: State | B2: Barley | D2: Canola | F2: Chickpeas (Large) | H2: Chickpeas (Small) | J2: Corn | L2: Crambe | N2: Dry Peas | P2: Flaxseed | R2: Grain Sorghum | T2: Lentils | V2: Mustard Seed | X2: Oats | Z2: Peanuts | AB2: Rapeseed | AD2: Rice (Long Grain) | AF2: Rice (Med/Short Grain) | AH2: Rice (Temperate Japonica) | AJ2: Safflower | AL2: Seed Cotton | AN2: Sesame Seed | AP2: Soybeans | AR2: Sunflower Seed | AT2: Wheat | AV2: State Total
B3: ARC-CO | C3: PLC | D3: ARC-CO | E3: PLC | F3: ARC-CO | G3: PLC | H3: ARC-CO | I3: PLC | J3: ARC-CO | K3: PLC | L3: ARC-CO | M3: PLC | N3: ARC-CO | O3: PLC | P3: ARC-CO | Q3: PLC | R3: ARC-CO | S3: PLC | T3: ARC-CO | U3: PLC | V3: ARC-CO | W3: PLC | X3: ARC-CO | Y3: PLC | Z3: ARC-CO | AA3: PLC | AB3: ARC-CO | AC3: PLC | AD3: ARC-CO | AE3: PLC | AF3: ARC-CO | AG3: PLC | AH3: ARC-CO | AI3: PLC | AJ3: ARC-CO | AK3: PLC | AL3: ARC-CO | AM3: PLC | AN3: ARC-CO | AO3: PLC | AP3: ARC-CO | AQ3: PLC | AR3: ARC-CO | AS3: PLC | AT3: ARC-CO | AU3: PLC | AV3: ARC-CO | AW3: PLC | AX3: Total
A4: Alabama | B4: 0 | C4: 0 | D4: 5631.4356 | E4: 0 | F4: 0 | G4: 0 | H4: 0 | I4: 0 | J4: 7132448.7 | K4: 0 | L4: 0 | M4: 0 | N4: 0 | O4: 0 | P4: 0 | Q4: 0 | R4: 23732.809 | S4: 0 | T4: 0 | U4: 0 | V4: 0 | W4: 0 | X4: 0 | Y4: 0 | Z4: 0 | AA4: 5124557 | AB4: 0 | AC4: 0 | AD4: 0 | AE4: 0 | AF4: 0 | AG4: 0 | AH4: 0 | AI4: 0 | AJ4: 0 | AK4: 0 | AL4: 9495743.7 | AM4: 6786108.9 | AN4: 0 | AO4: 0 | AP4: 3768703.3 | AQ4: 0 | AR4: 0 | AS4: 0 | AT4: 189827.95 | AU4: 0 | AV4: =AT4+AR4+AP4+AN4+AL4+AJ4+AH4+AF4+AD4+AB4+Z4+X4+V4+T4+R4+P4+N4+L4+J4+H4+F4+D4+B4 -> 20616088 | AW4: =AU4+AS4+AQ4+AO4+AM4+AK4+AI4+AG4+AE4+AC4+AA4+Y4+W4+U4+S4+Q4+O4+M4+K4+I4+G4+E4+C4 -> 11910666 | AX4: =SUM(B4:AU4) -> 32526754
A5: Arizona | B5: 0 | C5: 0 | D5: 0 | E5: 0 | F5: 0 | G5: 0 | H5: 0 | I5: 0 | J5: 0 | K5: 0 | L5: 0 | M5: 0 | N5: 0 | O5: 0 | P5: 0 | Q5: 0 | R5: 0 | S5: 0 | T5: 0 | U5: 0 | V5: 0 | W5: 0 | X5: 0 | Y5: 0 | Z5: 0 | AA5: 0 | AB5: 0 | AC5: 0 | AD5: 0 | AE5: 0 | AF5: 0 | AG5: 0 | AH5: 0 | AI5: 0 | AJ5: 0 | AK5: 0 | AL5: 0 | AM5: 16238402 | AN5: 0 | AO5: 0 | AP5: 0 | AQ5: 0 | AR5: 0 | AS5: 0 | AT5: 0 | AU5: 0 | AV5: =AT5+AR5+AP5+AN5+AL5+AJ5+AH5+AF5+AD5+AB5+Z5+X5+V5+T5+R5+P5+N5+L5+J5+H5+F5+D5+B5 -> 0 | AW5: =AU5+AS5+AQ5+AO5+AM5+AK5+AI5+AG5+AE5+AC5+AA5+Y5+W5+U5+S5+Q5+O5+M5+K5+I5+G5+E5+C5 -> 16238402 | AX5: =SUM(B5:AU5) -> 16238402
A6: Arkansas | B6: 0 | C6: 0 | D6: 0 | E6: 0 | F6: 0 | G6: 0 | H6: 0 | I6: 0 | J6: 735373.79 | K6: 0 | L6: 0 | M6: 0 | N6: 0 | O6: 0 | P6: 0 | Q6: 0 | R6: 49390.939 | S6: 0 | T6: 0 | U6: 0 | V6: 0 | W6: 0 | X6: 0 | Y6: 0 | Z6: 0 | AA6: 100885.51 | AB6: 0 | AC6: 0 | AD6: 0 | AE6: 0 | AF6: 12904.908 | AG6: 0 | AH6: 0 | AI6: 0 | AJ6: 14.435595 | AK6: 0 | AL6: 314823.23 | AM6: 26620148 | AN6: 0 | AO6: 0 | AP6: 6333137.8 | AQ6: 0 | AR6: 0 | AS6: 0 | AT6: 1957367.1 | AU6: 0 | AV6: =AT6+AR6+AP6+AN6+AL6+AJ6+AH6+AF6+AD6+AB6+Z6+X6+V6+T6+R6+P6+N6+L6+J6+H6+F6+D6+B6 -> 9403012.2 | AW6: =AU6+AS6+AQ6+AO6+AM6+AK6+AI6+AG6+AE6+AC6+AA6+Y6+W6+U6+S6+Q6+O6+M6+K6+I6+G6+E6+C6 -> 26721034 | AX6: =SUM(B6:AU6) -> 36124046
A7: California | B7: 0 | C7: 0 | D7: 0 | E7: 0 | F7: 0 | G7: 0 | H7: 0 | I7: 0 | J7: 1196268.9 | K7: 0 | L7: 0 | M7: 0 | N7: 0 | O7: 0 | P7: 0 | Q7: 0 | R7: 2452.5311 | S7: 0 | T7: 0 | U7: 0 | V7: 0 | W7: 0 | X7: 2700.9723 | Y7: 0 | Z7: 0 | AA7: 0 | AB7: 0 | AC7: 0 | AD7: 2182.1314 | AE7: 0 | AF7: 0 | AG7: 0 | AH7: 22069140 | AI7: 26566545 | AJ7: 0 | AK7: 0 | AL7: 2264629.7 | AM7: 18040252 | AN7: 0 | AO7: 0 | AP7: 0 | AQ7: 0 | AR7: 7546.8142 | AS7: 0 | AT7: 44998.765 | AU7: 0 | AV7: =AT7+AR7+AP7+AN7+AL7+AJ7+AH7+AF7+AD7+AB7+Z7+X7+V7+T7+R7+P7+N7+L7+J7+H7+F7+D7+B7 -> 25589920 | AW7: =AU7+AS7+AQ7+AO7+AM7+AK7+AI7+AG7+AE7+AC7+AA7+Y7+W7+U7+S7+Q7+O7+M7+K7+I7+G7+E7+C7 -> 44606797 | AX7: =SUM(B7:AU7) -> 70196716
A8: Colorado | B8: 30240.89 | C8: 0 | D8: 875.02328 | E8: 0 | F8: 0 | G8: 0 | H8: 0 | I8: 0 | J8: 8419052.8 | K8: 0 | L8: 0 | M8: 0 | N8: 2786.0232 | O8: 0 | P8: 0 | Q8: 0 | R8: 775618.15 | S8: 0 | T8: 0 | U8: 0 | V8: 0 | W8: 0 | X8: 123689.2 | Y8: 0 | Z8: 0 | AA8: 0 | AB8: 0 | AC8: 0 | AD8: 0 | AE8: 0 | AF8: 0 | AG8: 0 | AH8: 0 | AI8: 0 | AJ8: 3474.226 | AK8: 0 | AL8: 0 | AM8: 0 | AN8: 0 | AO8: 0 | AP8: 484.47662 | AQ8: 0 | AR8: 248405.14 | AS8: 0 | AT8: 3280664.2 | AU8: 0 | AV8: =AT8+AR8+AP8+AN8+AL8+AJ8+AH8+AF8+AD8+AB8+Z8+X8+V8+T8+R8+P8+N8+L8+J8+H8+F8+D8+B8 -> 12885290 | AW8: =AU8+AS8+AQ8+AO8+AM8+AK8+AI8+AG8+AE8+AC8+AA8+Y8+W8+U8+S8+Q8+O8+M8+K8+I8+G8+E8+C8 -> 0 | AX8: =SUM(B8:AU8) -> 12885290
A9: Connecticut | B9: 0 | C9: 0 | D9: 0 | E9: 0 | F9: 0 | G9: 0 | H9: 0 | I9: 0 | J9: 0 | K9: 0 | L9: 0 | M9: 0 | N9: 0 | O9: 0 | P9: 0 | Q9: 0 | R9: 0 | S9: 0 | T9: 0 | U9: 0 | V9: 0 | W9: 0 | X9: 0 | Y9: 0 | Z9: 0 | AA9: 0 | AB9: 0 | AC9: 0 | AD9: 0 | AE9: 0 | AF9: 0 | AG9: 0 | AH9: 0 | AI9: 0 | AJ9: 0 | AK9: 0 | AL9: 0 | AM9: 0 | AN9: 0 | AO9: 0 | AP9: 0 | AQ9: 0 | AR9: 0 | AS9: 0 | AT9: 0 | AU9: 0 | AV9: =AT9+AR9+AP9+AN9+AL9+AJ9+AH9+AF9+AD9+AB9+Z9+X9+V9+T9+R9+P9+N9+L9+J9+H9+F9+D9+B9 -> 0 | AW9: =AU9+AS9+AQ9+AO9+AM9+AK9+AI9+AG9+AE9+AC9+AA9+Y9+W9+U9+S9+Q9+O9+M9+K9+I9+G9+E9+C9 -> 0 | AX9: =SUM(B9:AU9) -> 0
A10: Delaware | B10: 0 | C10: 0 | D10: 0 | E10: 0 | F10: 0 | G10: 0 | H10: 0 | I10: 0 | J10: 3490233.4 | K10: 0 | L10: 0 | M10: 0 | N10: 0 | O10: 0 | P10: 0 | Q10: 0 | R10: 0 | S10: 0 | T10: 0 | U10: 0 | V10: 0 | W10: 0 | X10: 0 | Y10: 0 | Z10: 0 | AA10: 0 | AB10: 0 | AC10: 0 | AD10: 0 | AE10: 0 | AF10: 0 | AG10: 0 | AH10: 0 | AI10: 0 | AJ10: 0 | AK10: 0 | AL10: 0 | AM10: 0 | AN10: 0 | AO10: 0 | AP10: 1764837.9 | AQ10: 0 | AR10: 0 | AS10: 0 | AT10: 55113.074 | AU10: 0 | AV10: =AT10+AR10+AP10+AN10+AL10+AJ10+AH10+AF10+AD10+AB10+Z10+X10+V10+T10+R10+P10+N10+L10+J10+H10+F10+D10+B10 -> 5310184.4 | AW10: =AU10+AS10+AQ10+AO10+AM10+AK10+AI10+AG10+AE10+AC10+AA10+Y10+W10+U10+S10+Q10+O10+M10+K10+I10+G10+E10+C10 -> 0 | AX10: =SUM(B10:AU10) -> 5310184.4
A11: Florida | B11: 0 | C11: 0 | D11: 0 | E11: 0 | F11: 0 | G11: 0 | H11: 0 | I11: 0 | J11: 814328.99 | K11: 0 | L11: 0 | M11: 0 | N11: 0 | O11: 0 | P11: 0 | Q11: 0 | R11: 21812.872 | S11: 0 | T11: 0 | U11: 0 | V11: 0 | W11: 0 | X11: 0 | Y11: 0 | Z11: 0 | AA11: 3077111.1 | AB11: 0 | AC11: 0 | AD11: 0 | AE11: 0 | AF11: 0 | AG11: 0 | AH11: 0 | AI11: 0 | AJ11: 0 | AK11: 0 | AL11: 8557.7965 | AM11: 1349636.6 | AN11: 0 | AO11: 0 | AP11: 162504.97 | AQ11: 0 | AR11: 0 | AS11: 0 | AT11: 40362.535 | AU11: 0 | AV11: =AT11+AR11+AP11+AN11+AL11+AJ11+AH11+AF11+AD11+AB11+Z11+X11+V11+T11+R11+P11+N11+L11+J11+H11+F11+D11+B11 -> 1047567.2 | AW11: =AU11+AS11+AQ11+AO11+AM11+AK11+AI11+AG11+AE11+AC11+AA11+Y11+W11+U11+S11+Q11+O11+M11+K11+I11+G11+E11+C11 -> 4426747.7 | AX11: =SUM(B11:AU11) -> 5474314.9
A12: Georgia | B12: 0 | C12: 0 | D12: 763.31767 | E12: 0 | F12: 0 | G12: 0 | H12: 0 | I12: 0 | J12: 7661769.3 | K12: 0 | L12: 0 | M12: 0 | N12: 0 | O12: 0 | P12: 0 | Q12: 0 | R12: 280476.37 | S12: 0 | T12: 0 | U12: 0 | V12: 0 | W12: 0 | X12: 0 | Y12: 0 | Z12: 48577.948 | AA12: 19338763 | AB12: 0 | AC12: 0 | AD12: 0 | AE12: 0 | AF12: 0 | AG12: 0 | AH12: 0 | AI12: 0 | AJ12: 0 | AK12: 0 | AL12: 3168691.5 | AM12: 14352318 | AN12: 0 | AO12: 0 | AP12: 1218877.3 | AQ12: 0 | AR12: 0 | AS12: 0 | AT12: 355236.93 | AU12: 0 | AV12: =AT12+AR12+AP12+AN12+AL12+AJ12+AH12+AF12+AD12+AB12+Z12+X12+V12+T12+R12+P12+N12+L12+J12+H12+F12+D12+B12 -> 12734393 | AW12: =AU12+AS12+AQ12+AO12+AM12+AK12+AI12+AG12+AE12+AC12+AA12+Y12+W12+U12+S12+Q12+O12+M12+K12+I12+G12+E12+C12 -> 33691082 | AX12: =SUM(B12:AU12) -> 46425474
A13: Idaho | B13: 145475.11 | C13: 0 | D13: 133989.07 | E13: 0 | F13: 0 | G13: 0 | H13: 211578.81 | I13: 0 | J13: 856944.92 | K13: 0 | L13: 0 | M13: 0 | N13: 143500.88 | O13: 0 | P13: 0 | Q13: 0 | R13: 0 | S13: 0 | T13: 29397.068 | U13: 0 | V13: 0 | W13: 0 | X13: 88579.448 | Y13: 0 | Z13: 0 | AA13: 0 | AB13: 0 | AC13: 0 | AD13: 0 | AE13: 0 | AF13: 0 | AG13: 0 | AH13: 0 | AI13: 0 | AJ13: 0 | AK13: 0 | AL13: 0 | AM13: 0 | AN13: 0 | AO13: 0 | AP13: 0 | AQ13: 0 | AR13: 0 | AS13: 0 | AT13: 6440910.2 | AU13: 0 | AV13: =AT13+AR13+AP13+AN13+AL13+AJ13+AH13+AF13+AD13+AB13+Z13+X13+V13+T13+R13+P13+N13+L13+J13+H13+F13+D13+B13 -> 8050375.5 | AW13: =AU13+AS13+AQ13+AO13+AM13+AK13+AI13+AG13+AE13+AC13+AA13+Y13+W13+U13+S13+Q13+O13+M13+K13+I13+G13+E13+C13 -> 0 | AX13: =SUM(B13:AU13) -> 8050375.5
A14: Illinois | B14: 0 | C14: 0 | D14: 0 | E14: 0 | F14: 0 | G14: 0 | H14: 0 | I14: 0 | J14: 20531349 | K14: 0 | L14: 0 | M14: 0 | N14: 0 | O14: 0 | P14: 0 | Q14: 0 | R14: 1142104.7 | S14: 0 | T14: 0 | U14: 0 | V14: 0 | W14: 0 | X14: 0 | Y14: 0 | Z14: 0 | AA14: 0 | AB14: 0 | AC14: 0 | AD14: 0 | AE14: 0 | AF14: 0 | AG14: 0 | AH14: 0 | AI14: 0 | AJ14: 0 | AK14: 0 | AL14: 0 | AM14: 0 | AN14: 0 | AO14: 0 | AP14: 38992604 | AQ14: 0 | AR14: 0 | AS14: 0 | AT14: 135439.85 | AU14: 0 | AV14: =AT14+AR14+AP14+AN14+AL14+AJ14+AH14+AF14+AD14+AB14+Z14+X14+V14+T14+R14+P14+N14+L14+J14+H14+F14+D14+B14 -> 60801497 | AW14: =AU14+AS14+AQ14+AO14+AM14+AK14+AI14+AG14+AE14+AC14+AA14+Y14+W14+U14+S14+Q14+O14+M14+K14+I14+G14+E14+C14 -> 0 | AX14: =SUM(B14:AU14) -> 60801497
A15: Indiana | B15: 0 | C15: 0 | D15: 0 | E15: 0 | F15: 0 | G15: 0 | H15: 0 | I15: 0 | J15: 17928433 | K15: 0 | L15: 0 | M15: 0 | N15: 0 | O15: 0 | P15: 0 | Q15: 0 | R15: 138066.44 | S15: 0 | T15: 0 | U15: 0 | V15: 0 | W15: 0 | X15: 1147.6899 | Y15: 0 | Z15: 0 | AA15: 0 | AB15: 0 | AC15: 0 | AD15: 0 | AE15: 0 | AF15: 0 | AG15: 0 | AH15: 0 | AI15: 0 | AJ15: 0 | AK15: 0 | AL15: 0 | AM15: 0 | AN15: 0 | AO15: 0 | AP15: 19545630 | AQ15: 0 | AR15: 0 | AS15: 0 | AT15: 319002.22 | AU15: 0 | AV15: =AT15+AR15+AP15+AN15+AL15+AJ15+AH15+AF15+AD15+AB15+Z15+X15+V15+T15+R15+P15+N15+L15+J15+H15+F15+D15+B15 -> 37932279 | AW15: =AU15+AS15+AQ15+AO15+AM15+AK15+AI15+AG15+AE15+AC15+AA15+Y15+W15+U15+S15+Q15+O15+M15+K15+I15+G15+E15+C15 -> 0 | AX15: =SUM(B15:AU15) -> 37932279
... A51: Wyoming | B51: 9252.7088 | C51: 0 | D51: 0 | E51: 0 | F51: 0 | G51: 0 | H51: 0 | I51: 0 | J51: 698675.04 | K51: 0 | L51: 0 | M51: 0 | N51: 0 | O51: 0 | P51: 0 | Q51: 0 | R51: 423.90421 | S51: 0 | T51: 0 | U51: 0 | V51: 0 | W51: 0 | X51: 42923.798 | Y51: 0 | Z51: 0 | AA51: 0 | AB51: 0 | AC51: 0 | AD51: 0 | AE51: 0 | AF51: 0 | AG51: 0 | AH51: 0 | AI51: 0 | AJ51: 0 | AK51: 0 | AL51: 0 | AM51: 0 | AN51: 0 | AO51: 0 | AP51: 0 | AQ51: 0 | AR51: 13514.049 | AS51: 0 | AT51: 461769.7 | AU51: 0 | AV51: =AT51+AR51+AP51+AN51+AL51+AJ51+AH51+AF51+AD51+AB51+Z51+X51+V51+T51+R51+P51+N51+L51+J51+H51+F51+D51+B51 -> 1226559.2 | AW51: =AU51+AS51+AQ51+AO51+AM51+AK51+AI51+AG51+AE51+AC51+AA51+Y51+W51+U51+S51+Q51+O51+M51+K51+I51+G51+E51+C51 -> 0 | AX51: =SUM(B51:AU51) -> 1226559.2
A52: US Total | B52: =SUM(B4:B51) -> 2722775.7 | C52: =SUM(C4:C51) -> 0 | D52: =SUM(D4:D51) -> 9960204.6 | E52: =SUM(E4:E51) -> 0 | F52: =SUM(F4:F51) -> 30075.469 | G52: =SUM(G4:G51) -> 0 | H52: =SUM(H4:H51) -> 261056.66 | I52: =SUM(I4:I51) -> 0 | ... AW52: =SUM(AW4:AW51) -> 3.0203331e+08 | AX52: =SUM(B52:AU52) -> 2.3408387e+09

Sheet Table 3
A1: Table 3. Average ARC-CO and PLC Payments per Enrolled Base Acre by Commodity and State | M1: TOC
A2: State | B2: Barley | D2: Canola | F2: Chickpeas (Large) | H2: Chickpeas (Small) | J2: Corn | L2: Crambe | N2: Dry Peas | P2: Flaxseed | R2: Grain Sorghum | T2: Lentils | V2: Mustard Seed | X2: Oats | Z2: Peanuts | AB2: Rapeseed | AD2: Rice (Long Grain) | AF2: Rice (Med/Short Grain) | AH2: Rice (Temperate Japonica) | AJ2: Safflower | AL2: Seed Cotton | AN2: Sesame Seed | AP2: Soybeans | AR2: Sunflower Seed | AT2: Wheat
B3: ARC-CO | C3: PLC | D3: ARC-CO | E3: PLC | F3: ARC-CO | G3: PLC | H3: ARC-CO | I3: PLC | J3: ARC-CO | K3: PLC | L3: ARC-CO | M3: PLC | N3: ARC-CO | O3: PLC | P3: ARC-CO | Q3: PLC | R3: ARC-CO | S3: PLC | T3: ARC-CO | U3: PLC | V3: ARC-CO | W3: PLC | X3: ARC-CO | Y3: PLC | Z3: ARC-CO | AA3: PLC | AB3: ARC-CO | AC3: PLC | AD3: ARC-CO | AE3: PLC | AF3: ARC-CO | AG3: PLC | AH3: ARC-CO | AI3: PLC | AJ3: ARC-CO | AK3: PLC | AL3: ARC-CO | AM3: PLC | AN3: ARC-CO | AO3: PLC | AP3: ARC-CO | AQ3: PLC | AR3: ARC-CO | AS3: PLC | AT3: ARC-CO | AU3: PLC
A4: Alabama | B4: =IFERROR(IF('Table 2'!B4/'Table 1'!B4 = 0, "-", 'Table 2'!B4/'Table 1'!B4),"-") -> - | C4: =IFERROR('Table 2'!C4/'Table 1'!C4,"-") -> - | D4: =IFERROR('Table 2'!D4/'Table 1'!D4,"-") -> 41.063406 | E4: =IFERROR(IF('Table 2'!E4/'Table 1'!E4 = 0, "-", 'Table 2'!E4/'Table 1'!E4),"-") -> - | F4: =IFERROR('Table 2'!F4/'Table 1'!F4,"-") -> - | G4: =IFERROR('Table 2'!G4/'Table 1'!G4,"-") -> - | H4: =IFERROR('Table 2'!H4/'Table 1'!H4,"-") -> - | I4: =IFERROR('Table 2'!I4/'Table 1'!I4,"-") -> - | J4: =IFERROR('Table 2'!J4/'Table 1'!J4,"-") -> 60.79444 | K4: =IFERROR(IF('Table 2'!K4/'Table 1'!K4 = 0, "-", 'Table 2'!K4/'Table 1'!K4),"-") -> - | L4: =IFERROR('Table 2'!L4/'Table 1'!L4,"-") -> - | M4: =IFERROR('Table 2'!M4/'Table 1'!M4,"-") -> - | N4: =IFERROR('Table 2'!N4/'Table 1'!N4,"-") -> - | O4: =IFERROR('Table 2'!O4/'Table 1'!O4,"-") -> - | P4: =IFERROR('Table 2'!P4/'Table 1'!P4,"-") -> - | Q4: =IFERROR('Table 2'!Q4/'Table 1'!Q4,"-") -> - | R4: =IFERROR('Table 2'!R4/'Table 1'!R4,"-") -> 4.1203295 | S4: =IFERROR(IF('Table 2'!S4/'Table 1'!S4 = 0, "-", 'Table 2'!S4/'Table 1'!S4),"-") -> - | T4: =IFERROR('Table 2'!T4/'Table 1'!T4,"-") -> - | U4: =IFERROR('Table 2'!U4/'Table 1'!U4,"-") -> - | V4: =IFERROR('Table 2'!V4/'Table 1'!V4,"-") -> - | W4: =IFERROR('Table 2'!W4/'Table 1'!W4,"-") -> - | X4: =IFERROR(IF('Table 2'!X4/'Table 1'!X4 = 0, "-", 'Table 2'!X4/'Table 1'!X4),"-") -> - | Y4: =IFERROR(IF('Table 2'!Y4/'Table 1'!Y4 = 0, "-", 'Table 2'!Y4/'Table 1'!Y4),"-") -> - | Z4: =IFERROR(IF('Table 2'!Z4/'Table 1'!Z4 = 0, "-", 'Table 2'!Z4/'Table 1'!Z4),"-") -> - | AA4: =IFERROR(IF('Table 2'!AA4/'Table 1'!AA4 = 0, "-", 'Table 2'!AA4/'Table 1'!AA4),"-") -> 16.85327 | AB4: =IFERROR('Table 2'!AB4/'Table 1'!AB4,"-") -> - | AC4: =IFERROR('Table 2'!AC4/'Table 1'!AC4,"-") -> - | AD4: =IFERROR('Table 2'!AD4/'Table 1'!AD4,"-") -> - | AE4: =IFERROR('Table 2'!AE4/'Table 1'!AE4,"-") -> - | AF4: =IFERROR('Table 2'!AF4/'Table 1'!AF4,"-") -> - | AG4: =IFERROR('Table 2'!AG4/'Table 1'!AG4,"-") -> - | AH4: =IFERROR('Table 2'!AH4/'Table 1'!AH4,"-") -> - | AI4: =IFERROR('Table 2'!AI4/'Table 1'!AI4,"-") -> - | ... AP4: =IFERROR('Table 2'!AP4/'Table 1'!AP4,"-") -> 34.134783 | AQ4: =IFERROR(IF('Table 2'!AQ4/'Table 1'!AQ4 = 0, "-", 'Table 2'!AQ4/'Table 1'!AQ4),"-") -> - | AR4: =IFERROR(IF('Table 2'!AR4/'Table 1'!AR4 = 0, "-", 'Table 2'!AR4/'Table 1'!AR4),"-") -> - | AS4: =IFERROR(IF('Table 2'!AS4/'Table 1'!AS4 = 0, "-", 'Table 2'!AS4/'Table 1'!AS4),"-") -> - | AT4: =IFERROR('Table 2'!AT4/'Table 1'!AT4,"-") -> 4.2787318 | AU4: =IFERROR(IF('Table 2'!AU4/'Table 1'!AU4 = 0, "-", 'Table 2'!AU4/'Table 1'!AU4),"-") -> -
A5: Arizona | B5: =IFERROR(IF('Table 2'!B5/'Table 1'!B5 = 0, "-", 'Table 2'!B5/'Table 1'!B5),"-") -> - | C5: =IFERROR(IF('Table 2'!C5/'Table 1'!C5 = 0, "-", 'Table 2'!C5/'Table 1'!C5),"-") -> - | D5: =IFERROR(IF('Table 2'!D5/'Table 1'!D5 = 0, "-", 'Table 2'!D5/'Table 1'!D5),"-") -> - | E5: =IFERROR(IF('Table 2'!E5/'Table 1'!E5 = 0, "-", 'Table 2'!E5/'Table 1'!E5),"-") -> - | F5: =IFERROR(IF('Table 2'!F5/'Table 1'!F5 = 0, "-", 'Table 2'!F5/'Table 1'!F5),"-") -> - | G5: =IFERROR(IF('Table 2'!G5/'Table 1'!G5 = 0, "-", 'Table 2'!G5/'Table 1'!G5),"-") -> - | H5: =IFERROR(IF('Table 2'!H5/'Table 1'!H5 = 0, "-", 'Table 2'!H5/'Table 1'!H5),"-") -> - | I5: =IFERROR(IF('Table 2'!I5/'Table 1'!I5 = 0, "-", 'Table 2'!I5/'Table 1'!I5),"-") -> - | ... AU5: =IFERROR(IF('Table 2'!AU5/'Table 1'!AU5 = 0, "-", 'Table 2'!AU5/'Table 1'!AU5),"-") -> -
A6: Arkansas | B6: =IFERROR(IF('Table 2'!B6/'Table 1'!B6 = 0, "-", 'Table 2'!B6/'Table 1'!B6),"-") -> - | C6: =IFERROR(IF('Table 2'!C6/'Table 1'!C6 = 0, "-", 'Table 2'!C6/'Table 1'!C6),"-") -> - | D6: =IFERROR(IF('Table 2'!D6/'Table 1'!D6 = 0, "-", 'Table 2'!D6/'Table 1'!D6),"-") -> - | E6: =IFERROR(IF('Table 2'!E6/'Table 1'!E6 = 0, "-", 'Table 2'!E6/'Table 1'!E6),"-") -> - | F6: =IFERROR(IF('Table 2'!F6/'Table 1'!F6 = 0, "-", 'Table 2'!F6/'Table 1'!F6),"-") -> - | G6: =IFERROR(IF('Table 2'!G6/'Table 1'!G6 = 0, "-", 'Table 2'!G6/'Table 1'!G6),"-") -> - | H6: =IFERROR(IF('Table 2'!H6/'Table 1'!H6 = 0, "-", 'Table 2'!H6/'Table 1'!H6),"-") -> - | I6: =IFERROR(IF('Table 2'!I6/'Table 1'!I6 = 0, "-", 'Table 2'!I6/'Table 1'!I6),"-") -> - | ... AU6: =IFERROR(IF('Table 2'!AU6/'Table 1'!AU6 = 0, "-", 'Table 2'!AU6/'Table 1'!AU6),"-") -> -
A7: California | B7: =IFERROR(IF('Table 2'!B7/'Table 1'!B7 = 0, "-", 'Table 2'!B7/'Table 1'!B7),"-") -> - | C7: =IFERROR(IF('Table 2'!C7/'Table 1'!C7 = 0, "-", 'Table 2'!C7/'Table 1'!C7),"-") -> - | D7: =IFERROR(IF('Table 2'!D7/'Table 1'!D7 = 0, "-", 'Table 2'!D7/'Table 1'!D7),"-") -> - | E7: =IFERROR(IF('Table 2'!E7/'Table 1'!E7 = 0, "-", 'Table 2'!E7/'Table 1'!E7),"-") -> - | F7: =IFERROR(IF('Table 2'!F7/'Table 1'!F7 = 0, "-", 'Table 2'!F7/'Table 1'!F7),"-") -> - | G7: =IFERROR(IF('Table 2'!G7/'Table 1'!G7 = 0, "-", 'Table 2'!G7/'Table 1'!G7),"-") -> - | H7: =IFERROR(IF('Table 2'!H7/'Table 1'!H7 = 0, "-", 'Table 2'!H7/'Table 1'!H7),"-") -> - | I7: =IFERROR(IF('Table 2'!I7/'Table 1'!I7 = 0, "-", 'Table 2'!I7/'Table 1'!I7),"-") -> - | ... AU7: =IFERROR(IF('Table 2'!AU7/'Table 1'!AU7 = 0, "-", 'Table 2'!AU7/'Table 1'!AU7),"-") -> -
A8: Colorado | B8: =IFERROR(IF('Table 2'!B8/'Table 1'!B8 = 0, "-", 'Table 2'!B8/'Table 1'!B8),"-") -> 1.4596722 | C8: =IFERROR(IF('Table 2'!C8/'Table 1'!C8 = 0, "-", 'Table 2'!C8/'Table 1'!C8),"-") -> - | D8: =IFERROR(IF('Table 2'!D8/'Table 1'!D8 = 0, "-", 'Table 2'!D8/'Table 1'!D8),"-") -> 8.6807865 | E8: =IFERROR(IF('Table 2'!E8/'Table 1'!E8 = 0, "-", 'Table 2'!E8/'Table 1'!E8),"-") -> - | F8: =IFERROR(IF('Table 2'!F8/'Table 1'!F8 = 0, "-", 'Table 2'!F8/'Table 1'!F8),"-") -> - | G8: =IFERROR(IF('Table 2'!G8/'Table 1'!G8 = 0, "-", 'Table 2'!G8/'Table 1'!G8),"-") -> - | H8: =IFERROR(IF('Table 2'!H8/'Table 1'!H8 = 0, "-", 'Table 2'!H8/'Table 1'!H8),"-") -> - | I8: =IFERROR(IF('Table 2'!I8/'Table 1'!I8 = 0, "-", 'Table 2'!I8/'Table 1'!I8),"-") -> - | ... AU8: =IFERROR(IF('Table 2'!AU8/'Table 1'!AU8 = 0, "-", 'Table 2'!AU8/'Table 1'!AU8),"-") -> -
A9: Connecticut | B9: =IFERROR(IF('Table 2'!B9/'Table 1'!B9 = 0, "-", 'Table 2'!B9/'Table 1'!B9),"-") -> - | C9: =IFERROR(IF('Table 2'!C9/'Table 1'!C9 = 0, "-", 'Table 2'!C9/'Table 1'!C9),"-") -> - | D9: =IFERROR(IF('Table 2'!D9/'Table 1'!D9 = 0, "-", 'Table 2'!D9/'Table 1'!D9),"-") -> - | E9: =IFERROR(IF('Table 2'!E9/'Table 1'!E9 = 0, "-", 'Table 2'!E9/'Table 1'!E9),"-") -> - | F9: =IFERROR(IF('Table 2'!F9/'Table 1'!F9 = 0, "-", 'Table 2'!F9/'Table 1'!F9),"-") -> - | G9: =IFERROR(IF('Table 2'!G9/'Table 1'!G9 = 0, "-", 'Table 2'!G9/'Table 1'!G9),"-") -> - | H9: =IFERROR(IF('Table 2'!H9/'Table 1'!H9 = 0, "-", 'Table 2'!H9/'Table 1'!H9),"-") -> - | I9: =IFERROR(IF('Table 2'!I9/'Table 1'!I9 = 0, "-", 'Table 2'!I9/'Table 1'!I9),"-") -> - | ... AU9: =IFERROR(IF('Table 2'!AU9/'Table 1'!AU9 = 0, "-", 'Table 2'!AU9/'Table 1'!AU9),"-") -> -
A10: Delaware | B10: =IFERROR(IF('Table 2'!B10/'Table 1'!B10 = 0, "-", 'Table 2'!B10/'Table 1'!B10),"-") -> - | C10: =IFERROR(IF('Table 2'!C10/'Table 1'!C10 = 0, "-", 'Table 2'!C10/'Table 1'!C10),"-") -> - | D10: =IFERROR(IF('Table 2'!D10/'Table 1'!D10 = 0, "-", 'Table 2'!D10/'Table 1'!D10),"-") -> - | E10: =IFERROR(IF('Table 2'!E10/'Table 1'!E10 = 0, "-", 'Table 2'!E10/'Table 1'!E10),"-") -> - | F10: =IFERROR(IF('Table 2'!F10/'Table 1'!F10 = 0, "-", 'Table 2'!F10/'Table 1'!F10),"-") -> - | G10: =IFERROR(IF('Table 2'!G10/'Table 1'!G10 = 0, "-", 'Table 2'!G10/'Table 1'!G10),"-") -> - | H10: =IFERROR(IF('Table 2'!H10/'Table 1'!H10 = 0, "-", 'Table 2'!H10/'Table 1'!H10),"-") -> - | I10: =IFERROR(IF('Table 2'!I10/'Table 1'!I10 = 0, "-", 'Table 2'!I10/'Table 1'!I10),"-") -> - | ... AU10: =IFERROR(IF('Table 2'!AU10/'Table 1'!AU10 = 0, "-", 'Table 2'!AU10/'Table 1'!AU10),"-") -> -
A11: Florida | B11: =IFERROR(IF('Table 2'!B11/'Table 1'!B11 = 0, "-", 'Table 2'!B11/'Table 1'!B11),"-") -> - | C11: =IFERROR(IF('Table 2'!C11/'Table 1'!C11 = 0, "-", 'Table 2'!C11/'Table 1'!C11),"-") -> - | D11: =IFERROR(IF('Table 2'!D11/'Table 1'!D11 = 0, "-", 'Table 2'!D11/'Table 1'!D11),"-") -> - | E11: =IFERROR(IF('Table 2'!E11/'Table 1'!E11 = 0, "-", 'Table 2'!E11/'Table 1'!E11),"-") -> - | F11: =IFERROR(IF('Table 2'!F11/'Table 1'!F11 = 0, "-", 'Table 2'!F11/'Table 1'!F11),"-") -> - | G11: =IFERROR(IF('Table 2'!G11/'Table 1'!G11 = 0, "-", 'Table 2'!G11/'Table 1'!G11),"-") -> - | H11: =IFERROR(IF('Table 2'!H11/'Table 1'!H11 = 0, "-", 'Table 2'!H11/'Table 1'!H11),"-") -> - | I11: =IFERROR(IF('Table 2'!I11/'Table 1'!I11 = 0, "-", 'Table 2'!I11/'Table 1'!I11),"-") -> - | ... AU11: =IFERROR(IF('Table 2'!AU11/'Table 1'!AU11 = 0, "-", 'Table 2'!AU11/'Table 1'!AU11),"-") -> -
A12: Georgia | B12: =IFERROR(IF('Table 2'!B12/'Table 1'!B12 = 0, "-", 'Table 2'!B12/'Table 1'!B12),"-") -> - | C12: =IFERROR(IF('Table 2'!C12/'Table 1'!C12 = 0, "-", 'Table 2'!C12/'Table 1'!C12),"-") -> - | D12: =IFERROR(IF('Table 2'!D12/'Table 1'!D12 = 0, "-", 'Table 2'!D12/'Table 1'!D12),"-") -> 33.745255 | E12: =IFERROR(IF('Table 2'!E12/'Table 1'!E12 = 0, "-", 'Table 2'!E12/'Table 1'!E12),"-") -> - | F12: =IFERROR(IF('Table 2'!F12/'Table 1'!F12 = 0, "-", 'Table 2'!F12/'Table 1'!F12),"-") -> - | G12: =IFERROR(IF('Table 2'!G12/'Table 1'!G12 = 0, "-", 'Table 2'!G12/'Table 1'!G12),"-") -> - | H12: =IFERROR(IF('Table 2'!H12/'Table 1'!H12 = 0, "-", 'Table 2'!H12/'Table 1'!H12),"-") -> - | I12: =IFERROR(IF('Table 2'!I12/'Table 1'!I12 = 0, "-", 'Table 2'!I12/'Table 1'!I12),"-") -> - | ... AU12: =IFERROR(IF('Table 2'!AU12/'Table 1'!AU12 = 0, "-", 'Table 2'!AU12/'Table 1'!AU12),"-") -> -
A13: Idaho | B13: =IFERROR(IF('Table 2'!B13/'Table 1'!B13 = 0, "-", 'Table 2'!B13/'Table 1'!B13),"-") -> 1.8745556 | C13: =IFERROR(IF('Table 2'!C13/'Table 1'!C13 = 0, "-", 'Table 2'!C13/'Table 1'!C13),"-") -> - | D13: =IFERROR(IF('Table 2'!D13/'Table 1'!D13 = 0, "-", 'Table 2'!D13/'Table 1'!D13),"-") -> 17.812886 | E13: =IFERROR(IF('Table 2'!E13/'Table 1'!E13 = 0, "-", 'Table 2'!E13/'Table 1'!E13),"-") -> - | F13: =IFERROR(IF('Table 2'!F13/'Table 1'!F13 = 0, "-", 'Table 2'!F13/'Table 1'!F13),"-") -> - | G13: =IFERROR(IF('Table 2'!G13/'Table 1'!G13 = 0, "-", 'Table 2'!G13/'Table 1'!G13),"-") -> - | H13: =IFERROR(IF('Table 2'!H13/'Table 1'!H13 = 0, "-", 'Table 2'!H13/'Table 1'!H13),"-") -> 23.207472 | I13: =IFERROR(IF('Table 2'!I13/'Table 1'!I13 = 0, "-", 'Table 2'!I13/'Table 1'!I13),"-") -> - | ... AU13: =IFERROR(IF('Table 2'!AU13/'Table 1'!AU13 = 0, "-", 'Table 2'!AU13/'Table 1'!AU13),"-") -> -
A14: Illinois | B14: =IFERROR(IF('Table 2'!B14/'Table 1'!B14 = 0, "-", 'Table 2'!B14/'Table 1'!B14),"-") -> - | C14: =IFERROR(IF('Table 2'!C14/'Table 1'!C14 = 0, "-", 'Table 2'!C14/'Table 1'!C14),"-") -> - | D14: =IFERROR(IF('Table 2'!D14/'Table 1'!D14 = 0, "-", 'Table 2'!D14/'Table 1'!D14),"-") -> - | E14: =IFERROR(IF('Table 2'!E14/'Table 1'!E14 = 0, "-", 'Table 2'!E14/'Table 1'!E14),"-") -> - | F14: =IFERROR(IF('Table 2'!F14/'Table 1'!F14 = 0, "-", 'Table 2'!F14/'Table 1'!F14),"-") -> - | G14: =IFERROR(IF('Table 2'!G14/'Table 1'!G14 = 0, "-", 'Table 2'!G14/'Table 1'!G14),"-") -> - | H14: =IFERROR(IF('Table 2'!H14/'Table 1'!H14 = 0, "-", 'Table 2'!H14/'Table 1'!H14),"-") -> - | I14: =IFERROR(IF('Table 2'!I14/'Table 1'!I14 = 0, "-", 'Table 2'!I14/'Table 1'!I14),"-") -> - | ... AU14: =IFERROR(IF('Table 2'!AU14/'Table 1'!AU14 = 0, "-", 'Table 2'!AU14/'Table 1'!AU14),"-") -> -
A15: Indiana | B15: =IFERROR(IF('Table 2'!B15/'Table 1'!B15 = 0, "-", 'Table 2'!B15/'Table 1'!B15),"-") -> - | C15: =IFERROR(IF('Table 2'!C15/'Table 1'!C15 = 0, "-", 'Table 2'!C15/'Table 1'!C15),"-") -> - | D15: =IFERROR(IF('Table 2'!D15/'Table 1'!D15 = 0, "-", 'Table 2'!D15/'Table 1'!D15),"-") -> - | E15: =IFERROR(IF('Table 2'!E15/'Table 1'!E15 = 0, "-", 'Table 2'!E15/'Table 1'!E15),"-") -> - | F15: =IFERROR(IF('Table 2'!F15/'Table 1'!F15 = 0, "-", 'Table 2'!F15/'Table 1'!F15),"-") -> - | G15: =IFERROR(IF('Table 2'!G15/'Table 1'!G15 = 0, "-", 'Table 2'!G15/'Table 1'!G15),"-") -> - | H15: =IFERROR(IF('Table 2'!H15/'Table 1'!H15 = 0, "-", 'Table 2'!H15/'Table 1'!H15),"-") -> - | I15: =IFERROR(IF('Table 2'!I15/'Table 1'!I15 = 0, "-", 'Table 2'!I15/'Table 1'!I15),"-") -> - | ... AU15: =IFERROR(IF('Table 2'!AU15/'Table 1'!AU15 = 0, "-", 'Table 2'!AU15/'Table 1'!AU15),"-") -> -
A16: Iowa | B16: =IFERROR(IF('Table 2'!B16/'Table 1'!B16 = 0, "-", 'Table 2'!B16/'Table 1'!B16),"-") -> - | C16: =IFERROR(IF('Table 2'!C16/'Table 1'!C16 = 0, "-", 'Table 2'!C16/'Table 1'!C16),"-") -> - | D16: =IFERROR(IF('Table 2'!D16/'Table 1'!D16 = 0, "-", 'Table 2'!D16/'Table 1'!D16),"-") -> - | E16: =IFERROR(IF('Table 2'!E16/'Table 1'!E16 = 0, "-", 'Table 2'!E16/'Table 1'!E16),"-") -> - | F16: =IFERROR(IF('Table 2'!F16/'Table 1'!F16 = 0, "-", 'Table 2'!F16/'Table 1'!F16),"-") -> - | G16: =IFERROR(IF('Table 2'!G16/'Table 1'!G16 = 0, "-", 'Table 2'!G16/'Table 1'!G16),"-") -> - | H16: =IFERROR(IF('Table 2'!H16/'Table 1'!H16 = 0, "-", 'Table 2'!H16/'Table 1'!H16),"-") -> - | I16: =IFERROR(IF('Table 2'!I16/'Table 1'!I16 = 0, "-", 'Table 2'!I16/'Table 1'!I16),"-") -> - | ... AU16: =IFERROR(IF('Table 2'!AU16/'Table 1'!AU16 = 0, "-", 'Table 2'!AU16/'Table 1'!AU16),"-") -> -
... A52: US Total | B52: =IFERROR(IF('Table 2'!B52/'Table 1'!B52 = 0, "-", 'Table 2'!B52/'Table 1'!B52),"-") -> 1.3647448 | C52: =IFERROR(IF('Table 2'!C52/'Table 1'!C52 = 0, "-", 'Table 2'!C52/'Table 1'!C52),"-") -> - | D52: =IFERROR(IF('Table 2'!D52/'Table 1'!D52 = 0, "-", 'Table 2'!D52/'Table 1'!D52),"-") -> 17.223891 | E52: =IFERROR(IF('Table 2'!E52/'Table 1'!E52 = 0, "-", 'Table 2'!E52/'Table 1'!E52),"-") -> - | F52: =IFERROR(IF('Table 2'!F52/'Table 1'!F52 = 0, "-", 'Table 2'!F52/'Table 1'!F52),"-") -> 0.59576996 | G52: =IFERROR(IF('Table 2'!G52/'Table 1'!G52 = 0, "-", 'Table 2'!G52/'Table 1'!G52),"-") -> - | H52: =IFERROR(IF('Table 2'!H52/'Table 1'!H52 = 0, "-", 'Table 2'!H52/'Table 1'!H52),"-") -> 17.55142 | I52: =IFERROR(IF('Table 2'!I52/'Table 1'!I52 = 0, "-", 'Table 2'!I52/'Table 1'!I52),"-") -> - | ... AU52: =IFERROR(IF('Table 2'!AU52/'Table 1'!AU52 = 0, "-", 'Table 2'!AU52/'Table 1'!AU52),"-") -> -
