Workbook

Sheet TOC
B11: North Dakota Farm Income Outlook
B13: Fall 2025
B15: Crop production & prices
B16: Livestock and dairy production & prices
B17: Land use, prices, & rental rates
B18: Receipts from farming
B19: Government payments and programs
B20: Crop insurance
B21: Production expenses
B22: Farm income statistics
B23: ="Value added to US economy by the "&A90&" ag sector" -> Value added to US economy by the North Dakota ag sector
A90: =LEFT($B$11,FIND("*",SUBSTITUTE($B$11," ","*",2))-1) -> North Dakota

Sheet Crops
A1: TOC
B2: =+TOC!A90&" Crops" -> North Dakota Crops | D2: 1990 | E2: 1991 | F2: 1992 | G2: 1993 | H2: 1994 | I2: 1995 | J2: 1996 | K2: 1997 | L2: 1998 | M2: 1999 | N2: 2000 | O2: 2001 | P2: 2002 | Q2: 2003 | R2: 2004 | S2: 2005 | T2: 2006 | U2: 2007 | V2: 2008 | W2: 2009 | X2: 2010 | Y2: 2011 | Z2: 2012 | AA2: 2013 | AB2: 2014 | AC2: 2015 | AD2: 2016 | AE2: 2017 | AF2: 2018 | AG2: 2019 | AH2: 2020 | AI2: 2021 | AJ2: 2022 | AK2: 2023 | AL2: 2024 | AM2: 2025 | AN2: 2026 | AO2: 2027 | AP2: 2028 | AQ2: 2029 | AR2: 2030 | AS2: 2031 | AT2: 2032 | AU2: 2033 | AV2: 2034
B5: =+TOC!A90&" Field Crop Production and Prices" -> North Dakota Field Crop Production and Prices | D5: 1990 | E5: 1991 | F5: 1992 | G5: 1993 | H5: 1994 | I5: 1995 | J5: 1996 | K5: 1997 | L5: 1998 | M5: 1999 | N5: 2000 | O5: 2001 | P5: 2002 | Q5: 2003 | R5: 2004 | S5: 2005 | T5: 2006 | U5: 2007 | V5: 2008 | W5: 2009 | X5: 2010 | Y5: 2011 | Z5: 2012 | AA5: 2013 | AB5: 2014 | AC5: 2015 | AD5: 2016 | AE5: 2017 | AF5: 2018 | AG5: 2019 | AH5: 2020 | AI5: 2021 | AJ5: 2022 | AK5: 2023 | AL5: 2024 | AM5: 2025 | AN5: 2026 | AO5: 2027 | AP5: 2028 | AQ5: 2029 | AR5: 2030 | AS5: 2031 | AT5: 2032 | AU5: 2033 | AV5: 2034
C6: Units
B8: Barley
B9: Area planted | C9: 1000 acres | D9: 2600 | E9: 2900 | F9: 2700 | G9: 2900 | H9: 2500 | I9: 2300 | J9: 2650 | K9: 2400 | L9: 2000 | M9: 1350 | N9: 1900 | O9: 1500 | P9: 1600 | Q9: 2050 | R9: 1600 | S9: 1200 | T9: 1100 | U9: 1470 | V9: 1650 | W9: 1210 | X9: 720 | Y9: 400 | Z9: 1060 | AA9: 760 | AB9: 620 | AC9: 1080 | AD9: 740 | AE9: 520 | AF9: 470 | AG9: 580 | AH9: 530 | AI9: 580 | AJ9: 730 | AK9: 690 | AL9: 370 | AM9: 470 | AN9: 393.3848 | AO9: 416.77795 | AP9: 425.63191 | AQ9: 422.78889 | AR9: 421.12966 | AS9: 420.7671 | AT9: 422.55761 | AU9: 423.93907 | AV9: 426.32836
B10: Area harvested | C10: 1000 acres | D10: 2450 | E10: 2830 | F10: 2650 | G10: 2400 | H10: 2400 | I10: 2250 | J10: 2600 | K10: 2250 | L10: 1930 | M10: 1240 | N10: 1770 | O10: 1450 | P10: 1300 | Q10: 1980 | R10: 1480 | S10: 1060 | T10: 995 | U10: 1390 | V10: 1540 | W10: 1130 | X10: 670 | Y10: 350 | Z10: 1010 | AA10: 720 | AB10: 535 | AC10: 1050 | AD10: 640 | AE10: 400 | AF10: 385 | AG10: 445 | AH10: 460 | AI10: 430 | AJ10: 650 | AK10: 570 | AL10: 285 | AM10: 360 | AN10: 317.20215 | AO10: 336.065 | AP10: 343.20431 | AQ10: 340.91187 | AR10: 339.57396 | AS10: 339.28161 | AT10: 340.72538 | AU10: 341.83931 | AV10: 343.76589
B11: Yield | C11: bu/acre | D11: 53 | E11: 49 | F11: 65 | G11: 49 | H11: 55 | I11: 45 | J11: 55 | K11: 45 | L11: 55 | M11: 48 | N11: 55 | O11: 55 | P11: 45 | Q11: 60 | R11: 62 | S11: 54 | T11: 49 | U11: 56 | V11: 56 | W11: 70 | X11: 65 | Y11: 47 | Z11: 60 | AA11: 64 | AB11: 67 | AC11: 64 | AD11: 67 | AE11: 65 | AF11: 74 | AG11: 72 | AH11: 63 | AI11: 51 | AJ11: 73 | AK11: 71 | AL11: 74 | AM11: 74 | AN11: 73.980269 | AO11: 74.742321 | AP11: 75.521426 | AQ11: 76.235557 | AR11: 76.960904 | AS11: 77.670017 | AT11: 78.455395 | AU11: 79.105346 | AV11: 79.757608
B12: Production | C12: 1000 bushels | D12: 129850 | E12: 138670 | F12: 172250 | G12: 117600 | H12: 132000 | I12: 101250 | J12: 143000 | K12: 101250 | L12: 106150 | M12: 59520 | N12: 97350 | O12: 79750 | P12: 58500 | Q12: 118800 | R12: 91760 | S12: 57240 | T12: 48755 | U12: 77840 | V12: 86240 | W12: 79100 | X12: 43550 | Y12: 16450 | Z12: 60600 | AA12: 46080 | AB12: 35845 | AC12: 67200 | AD12: 42880 | AE12: 26000 | AF12: 28490 | AG12: 32040 | AH12: 28980 | AI12: 21930 | AJ12: 47450 | AK12: 40470 | AL12: 21090 | AM12: 26640 | AN12: 23466.7 | AO12: 25118.278 | AP12: 25919.279 | AQ12: 25989.606 | AR12: 26133.919 | AS12: 26352.009 | AT12: 26731.744 | AU12: 27041.316 | AV12: 27417.945
B13: Price | C13: $/bu | D13: 1.88 | E13: 1.77 | F13: 1.74 | G13: 1.69 | H13: 1.87 | I13: 2.92 | J13: 2.42 | K13: 1.96 | L13: 1.67 | M13: 1.91 | N13: 1.63 | O13: 1.71 | P13: 2.56 | Q13: 2.59 | R13: 2.12 | S13: 1.99 | T13: 2.65 | U13: 3.91 | V13: 5.18 | W13: 3.85 | X13: 3.74 | Y13: 5.42 | Z13: 6.56 | AA13: 6.09 | AB13: 5.3 | AC13: 4.88 | AD13: 4.47 | AE13: 4.31 | AF13: 4.24 | AG13: 4.16 | AH13: 4.56 | AI13: 5.38 | AJ13: 7.41 | AK13: 6.67 | AL13: 5.8 | AM13: 5.0668197 | AN13: 5.2512478 | AO13: 5.4436702 | AP13: 5.4304946 | AQ13: 5.3716627 | AR13: 5.3204045 | AS13: 5.297929 | AT13: 5.3002705 | AU13: 5.2927053 | AV13: 5.27023
B15: Canola
B16: Area planted | C16: 1000 acres | D16: 0 | E16: 18 | F16: 23 | G16: 48 | H16: 130 | I16: 215 | J16: 220 | K16: 460 | L16: 800 | M16: 855 | N16: 1270 | O16: 1300 | P16: 1300 | Q16: 970 | R16: 780 | S16: 1040 | T16: 940 | U16: 1080 | V16: 910 | W16: 730 | X16: 1280 | Y16: 860 | Z16: 1460 | AA16: 920 | AB16: 1200 | AC16: 1410 | AD16: 1460 | AE16: 1590 | AF16: 1590 | AG16: 1700 | AH16: 1520 | AI16: 1750 | AJ16: 1800 | AK16: 1930 | AL16: 2140 | AM16: 1850 | AN16: 1935.0655 | AO16: 1956.5292 | AP16: 1986.4652 | AQ16: 2012.0307 | AR16: 2035.1871 | AS16: 2059.9628 | AT16: 2079.0573 | AU16: 2096.6811 | AV16: 2114.8405
B17: Area harvested | C17: 1000 acres | D17: 0 | E17: 17.5 | F17: 21.4 | G17: 46.5 | H17: 126 | I17: 211 | J17: 217 | K17: 430 | L17: 775 | M17: 835 | N17: 1250 | O17: 1285 | P17: 1160 | Q17: 960 | R17: 750 | S17: 1015 | T17: 935 | U17: 1070 | V17: 895 | W17: 725 | X17: 1270 | Y17: 850 | Z17: 1455 | AA17: 915 | AB17: 1190 | AC17: 1400 | AD17: 1450 | AE17: 1560 | AF17: 1580 | AG17: 1610 | AH17: 1505 | AI17: 1720 | AJ17: 1785 | AK17: 1915 | AL17: 2120 | AM17: 1830 | AN17: 1913.5402 | AO17: 1934.7652 | AP17: 1964.3681 | AQ17: 1989.6493 | AR17: 2012.5481 | AS17: 2037.0482 | AT17: 2055.9302 | AU17: 2073.358 | AV17: 2091.3154
B18: Yield | C18: lb/acre | D18: 0 | E18: 1400 | F18: 1530 | G18: 1230 | H18: 1400 | I18: 1220 | J18: 1380 | K18: 1180 | L18: 1480 | M18: 1300 | N18: 1320 | O18: 1400 | P18: 1210 | Q18: 1410 | R18: 1630 | S18: 1440 | T18: 1370 | U18: 1230 | V18: 1460 | W18: 1840 | X18: 1720 | Y18: 1500 | Z18: 1380 | AA18: 1820 | AB18: 1800 | AC18: 1780 | AD18: 1840 | AE18: 1600 | AF18: 1960 | AG18: 1800 | AH18: 1970 | AI18: 1340 | AJ18: 1820 | AK18: 1810 | AL18: 1850 | AM18: 1935.2726 | AN18: 1958.1916 | AO18: 1977.2249 | AP18: 1997.8406 | AQ18: 2015.0421 | AR18: 2033.9738 | AS18: 2049.6035 | AT18: 2062.2928 | AU18: 2077.237 | AV18: 2094.2571
B19: Production | C19: 1000 pounds | D19: 0 | E19: 24500 | F19: 32742 | G19: 57195 | H19: 176400 | I19: 257420 | J19: 299460 | K19: 507400 | L19: 1147000 | M19: 1085500 | N19: 1650000 | O19: 1799000 | P19: 1403600 | Q19: 1353600 | R19: 1222500 | S19: 1461600 | T19: 1280950 | U19: 1316100 | V19: 1306700 | W19: 1334000 | X19: 2184400 | Y19: 1275000 | Z19: 2007900 | AA19: 1665300 | AB19: 2142000 | AC19: 2492000 | AD19: 2668000 | AE19: 2496000 | AF19: 3096800 | AG19: 2898000 | AH19: 2964850 | AI19: 2304800 | AJ19: 3248700 | AK19: 3466150 | AL19: 3922000 | AM19: 3541548.9 | AN19: 3747078.3 | AO19: 3825465.9 | AP19: 3924494.3 | AQ19: 4009227 | AR19: 4093470.2 | AS19: 4175141 | AT19: 4239930.1 | AU19: 4306856 | AV19: 4379752.1
B20: Price | C20: $/cwt | D20: 0 | E20: 9 | F20: 9.05 | G20: 9.05 | H20: 10.5 | I20: 11 | J20: 12.9 | K20: 11.1 | L20: 10.2 | M20: 7.5 | N20: 6.55 | O20: 8.8 | P20: 10.6 | Q20: 10.6 | R20: 10.7 | S20: 9.64 | T20: 11.9 | U20: 18.3 | V20: 18.7 | W20: 16.1 | X20: 19.3 | Y20: 24 | Z20: 26.5 | AA20: 20.6 | AB20: 16.9 | AC20: 15.6 | AD20: 16.8 | AE20: 17.6 | AF20: 15.8 | AG20: 14.8 | AH20: 18.5 | AI20: 33.4 | AJ20: 29.9 | AK20: 24.4 | AL20: 20.3 | AM20: 21.039307 | AN20: 21.79031 | AO20: 21.976654 | AP20: 22.037477 | AQ20: 21.753155 | AR20: 21.546885 | AS20: 21.45067 | AT20: 21.267763 | AU20: 21.093521 | AV20: 20.818895
B22: Corn
B23: Area planted (includes silage) | C23: 1000 acres | D23: 850 | E23: 930 | F23: 1000 | G23: 780 | H23: 770 | I23: 700 | J23: 750 | K23: 780 | L23: 970 | M23: 800 | N23: 1080 | O23: 880 | P23: 1230 | Q23: 1450 | R23: 1800 | S23: 1410 | T23: 1690 | U23: 2560 | V23: 2550 | W23: 1950 | X23: 2050 | Y23: 2230 | Z23: 3640 | AA23: 3850 | AB23: 2800 | AC23: 2750 | AD23: 3450 | AE23: 3420 | AF23: 3150 | AG23: 3500 | AH23: 1950 | AI23: 4100 | AJ23: 2950 | AK23: 4050 | AL23: 3950 | AM23: 4700 | AN23: 4316.8399 | AO23: 4352.9446 | AP23: 4369.3641 | AQ23: 4369.7338 | AR23: 4378.958 | AS23: 4389.252 | AT23: 4406.2854 | AU23: 4418.8267 | AV23: 4424.1851
B24: Area harvested (grain) | C24: 1000 acres | D24: 460 | E24: 570 | F24: 580 | G24: 365 | H24: 520 | I24: 510 | J24: 600 | K24: 590 | L24: 825 | M24: 655 | N24: 930 | O24: 705 | P24: 995 | Q24: 1170 | R24: 1150 | S24: 1200 | T24: 1400 | U24: 2350 | V24: 2300 | W24: 1740 | X24: 1880 | Y24: 2060 | Z24: 3460 | AA24: 3600 | AB24: 2530 | AC24: 2560 | AD24: 3270 | AE24: 3230 | AF24: 2930 | AG24: 3130 | AH24: 1780 | AI24: 3630 | AJ24: 2650 | AK24: 3800 | AL24: 3640 | AM24: 4362.8261 | AN24: 3938.417 | AO24: 3969.9523 | AP24: 3984.2938 | AQ24: 3984.6167 | AR24: 3992.6734 | AS24: 4001.6647 | AT24: 4016.5423 | AU24: 4027.4965 | AV24: 4032.1767
B25: Yield (grain) | C25: bu/acre | D25: 80 | E25: 90 | F25: 63 | G25: 45 | H25: 100 | I25: 79 | J25: 91 | K25: 99 | L25: 107 | M25: 117 | N25: 112 | O25: 115 | P25: 114 | Q25: 112 | R25: 105 | S25: 129 | T25: 111 | U25: 116 | V25: 124 | W25: 115 | X25: 132 | Y25: 105 | Z25: 122 | AA25: 110 | AB25: 124 | AC25: 128 | AD25: 158 | AE25: 139 | AF25: 153 | AG25: 131 | AH25: 139 | AI25: 105 | AJ25: 130 | AK25: 143 | AL25: 149 | AM25: 148 | AN25: 145.75373 | AO25: 147.27157 | AP25: 148.87164 | AQ25: 150.3694 | AR25: 152.01852 | AS25: 153.34385 | AT25: 154.78929 | AU25: 156.33501 | AV25: 158.01831
B26: Production (grain) | C26: 1000 bushels | D26: 36800 | E26: 51300 | F26: 36540 | G26: 16425 | H26: 52000 | I26: 40290 | J26: 54600 | K26: 58410 | L26: 88275 | M26: 76635 | N26: 104160 | O26: 81075 | P26: 113430 | Q26: 131040 | R26: 120750 | S26: 154800 | T26: 155400 | U26: 272600 | V26: 285200 | W26: 200100 | X26: 248160 | Y26: 216300 | Z26: 422120 | AA26: 396000 | AB26: 313720 | AC26: 327680 | AD26: 516660 | AE26: 448970 | AF26: 448290 | AG26: 410030 | AH26: 247420 | AI26: 381150 | AJ26: 344500 | AK26: 543400 | AL26: 542360 | AM26: 645698.26 | AN26: 574038.99 | AO26: 584661.11 | AP26: 593148.37 | AQ26: 599164.43 | AR26: 606960.33 | AS26: 613630.68 | AT26: 621717.75 | AU26: 629638.68 | AV26: 637157.76
B27: Price | C27: $/bu | D27: 2.15 | E27: 2.19 | F27: 1.85 | G27: 2.27 | H27: 2.06 | I27: 3.16 | J27: 2.43 | K27: 2.12 | L27: 1.71 | M27: 1.59 | N27: 1.65 | O27: 1.87 | P27: 2.16 | Q27: 2.37 | R27: 1.88 | S27: 1.8 | T27: 2.77 | U27: 4.06 | V27: 3.74 | W27: 3.18 | X27: 5.01 | Y27: 5.81 | Z27: 6.46 | AA27: 3.91 | AB27: 3.34 | AC27: 3.28 | AD27: 3.01 | AE27: 3.04 | AF27: 3.32 | AG27: 3.07 | AH27: 4.44 | AI27: 5.86 | AJ27: 6.16 | AK27: 4.14 | AL27: 4.0154994 | AM27: 3.6301609 | AN27: 4.0064598 | AO27: 4.1657298 | AP27: 4.1170096 | AQ27: 4.0724925 | AR27: 4.034691 | AS27: 4.0320925 | AT27: 4.0551291 | AU27: 4.0583224 | AV27: 4.0458787
B29: Hay
B30: Area harvested | C30: 1000 acres | D30: 3500 | E30: 3300 | F30: 2900 | G30: 2950 | H30: 2800 | I30: 2700 | J30: 2900 | K30: 3150 | L30: 2600 | M30: 2900 | N30: 2400 | O30: 2750 | P30: 3300 | Q30: 2950 | R30: 2730 | S30: 3030 | T30: 2720 | U30: 2680 | V30: 3220 | W30: 2960 | X30: 2550 | Y30: 2480 | Z30: 2190 | AA30: 2620 | AB30: 2700 | AC30: 2750 | AD30: 2530 | AE30: 2580 | AF30: 2670 | AG30: 2400 | AH30: 2190 | AI30: 1990 | AJ30: 2140 | AK30: 2790 | AL30: 1930 | AM30: 2150 | AN30: 2262.8528 | AO30: 2302.0026 | AP30: 2329.3099 | AQ30: 2355.6324 | AR30: 2374.8287 | AS30: 2388.586 | AT30: 2394.9066 | AU30: 2396.3878 | AV30: 2393.7146
B31: Yield | C31: short tons/acre | D31: 1.07 | E31: 1.45 | F31: 1.21 | G31: 1.71 | H31: 1.61 | I31: 1.89 | J31: 1.66 | K31: 1.39 | L31: 1.61 | M31: 1.9 | N31: 2.09 | O31: 1.87 | P31: 1.19 | Q31: 1.56 | R31: 1.34 | S31: 1.86 | T31: 1.15 | U31: 1.89 | V31: 1.28 | W31: 1.77 | X31: 2.09 | Y31: 2.11 | Z31: 1.44 | AA31: 1.94 | AB31: 2.02 | AC31: 1.8090909 | AD31: 1.6936759 | AE31: 1.3267442 | AF31: 1.6550562 | AG31: 1.7041667 | AH31: 1.626484 | AI31: 1.0321608 | AJ31: 1.7864486 | AK31: 1.5870968 | AL31: 1.77 | AM31: 1.8218605 | AN31: 1.7802089 | AO31: 1.7937301 | AP31: 1.8051574 | AQ31: 1.8156367 | AR31: 1.8272139 | AS31: 1.8390685 | AT31: 1.849781 | AU31: 1.8602008 | AV31: 1.87306
B32: Production | C32: 1000 short tons | D32: 3745 | E32: 4780 | F32: 3515 | G32: 5043 | H32: 4510 | I32: 5095 | J32: 4825 | K32: 4375 | L32: 4190 | M32: 5511 | N32: 5025 | O32: 5143 | P32: 3920 | Q32: 4598 | R32: 3666 | S32: 5646 | T32: 3137 | U32: 5063 | V32: 4118 | W32: 5240 | X32: 5321 | Y32: 5224 | Z32: 3156 | AA32: 5090 | AB32: 5460 | AC32: 4975 | AD32: 4285 | AE32: 3423 | AF32: 4419 | AG32: 4090 | AH32: 3562 | AI32: 2054 | AJ32: 3823 | AK32: 4428 | AL32: 3417 | AM32: 3917 | AN32: 4028.3507 | AO32: 4129.1713 | AP32: 4204.7711 | AQ32: 4276.9725 | AR32: 4339.3199 | AS32: 4392.7733 | AT32: 4430.0529 | AU32: 4457.7625 | AV32: 4483.5712
B33: Price | C33: $/short ton | D33: 62.5 | E33: 43.5 | F33: 46.5 | G33: 51 | H33: 48 | I33: 43 | J33: 52 | K33: 60 | L33: 51 | M33: 39 | N33: 42.5 | O33: 45.5 | P33: 64.5 | Q33: 52.5 | R33: 58.5 | S33: 52 | T33: 64 | U33: 57 | V33: 79.5 | W33: 64.5 | X33: 58 | Y33: 71 | Z33: 121 | AA33: 103 | AB33: 81.5 | AC33: 72.175879 | AD33: 72.913652 | AE33: 92.239264 | AF33: 81.006789 | AG33: 78.102689 | AH33: 82.279057 | AI33: 137.30088 | AJ33: 112.42218 | AK33: 106.79675 | AL33: 93.095798 | AM33: 94.149467 | AN33: 88.206383 | AO33: 87.656044 | AP33: 92.219592 | AQ33: 95.097613 | AR33: 97.047874 | AS33: 97.933312 | AT33: 98.400189 | AU33: 98.132432 | AV33: 96.60333
B35: Oats
B36: Area planted | C36: 1000 acres | D36: 1000 | E36: 950 | F36: 780 | G36: 800 | H36: 860 | I36: 650 | J36: 530 | K36: 700 | L36: 730 | M36: 650 | N36: 600 | O36: 575 | P36: 670 | Q36: 620 | R36: 490 | S36: 490 | T36: 420 | U36: 460 | V36: 320 | W36: 350 | X36: 280 | Y36: 170 | Z36: 200 | AA36: 225 | AB36: 235 | AC36: 275 | AD36: 290 | AE36: 295 | AF36: 300 | AG36: 355 | AH36: 365 | AI36: 355 | AJ36: 345 | AK36: 280 | AL36: 280 | AM36: 330 | AN36: 297.68243 | AO36: 280.37751 | AP36: 275.80405 | AQ36: 272.0452 | AR36: 268.54279 | AS36: 264.56827 | AT36: 259.68127 | AU36: 254.7152 | AV36: 250.48077
B37: Area harvested | C37: 1000 acres | D37: 600 | E37: 650 | F37: 550 | G37: 530 | H37: 550 | I37: 450 | J37: 380 | K37: 425 | L37: 420 | M37: 330 | N37: 315 | O37: 240 | P37: 300 | Q37: 360 | R37: 220 | S37: 240 | T37: 120 | U37: 260 | V37: 125 | W37: 160 | X37: 105 | Y37: 80 | Z37: 105 | AA37: 135 | AB37: 105 | AC37: 140 | AD37: 110 | AE37: 80 | AF37: 105 | AG37: 115 | AH37: 105 | AI37: 83 | AJ37: 190 | AK37: 105 | AL37: 135 | AM37: 140 | AN37: 107.6679 | AO37: 101.40893 | AP37: 99.754773 | AQ37: 98.395246 | AR37: 97.128468 | AS37: 95.690936 | AT37: 93.923369 | AU37: 92.127206 | AV37: 90.595668
B38: Yield | C38: bu/acre | D38: 51 | E38: 50 | F38: 68 | G38: 70 | H38: 61 | I38: 48 | J38: 50 | K38: 44 | L38: 60 | M38: 51 | N38: 63 | O38: 62 | P38: 42 | Q38: 59 | R38: 64 | S38: 59 | T38: 41 | U38: 59 | V38: 51 | W38: 68 | X38: 61 | Y38: 52 | Z38: 62 | AA38: 62 | AB38: 73 | AC38: 74 | AD38: 66 | AE38: 58 | AF38: 82 | AG38: 86 | AH38: 78 | AI38: 48 | AJ38: 72 | AK38: 76 | AL38: 98 | AM38: 97 | AN38: 69.4486 | AO38: 70.125159 | AP38: 70.807103 | AQ38: 71.455313 | AR38: 72.085991 | AS38: 72.692924 | AT38: 73.318785 | AU38: 73.931754 | AV38: 74.554304
B39: Production | C39: 1000 bushels | D39: 30600 | E39: 32500 | F39: 37400 | G39: 37100 | H39: 33550 | I39: 21600 | J39: 19000 | K39: 18700 | L39: 25200 | M39: 16830 | N39: 19845 | O39: 14880 | P39: 12600 | Q39: 21240 | R39: 14080 | S39: 14160 | T39: 4920 | U39: 15340 | V39: 6375 | W39: 10880 | X39: 6405 | Y39: 4160 | Z39: 6510 | AA39: 8370 | AB39: 7665 | AC39: 10360 | AD39: 7260 | AE39: 4640 | AF39: 8610 | AG39: 9890 | AH39: 8190 | AI39: 3984 | AJ39: 13680 | AK39: 7980 | AL39: 13230 | AM39: 13580 | AN39: 7477.3849 | AO39: 7111.3177 | AP39: 7063.3464 | AQ39: 7030.8631 | AR39: 7001.6019 | AS39: 6956.0539 | AT39: 6886.3473 | AU39: 6811.126 | AV39: 6754.297
B40: Price | C40: $/bu | D40: 0.94 | E40: 1.05 | F40: 1.16 | G40: 1.19 | H40: 1.05 | I40: 1.52 | J40: 1.68 | K40: 1.32 | L40: 0.93 | M40: 0.9 | N40: 0.86 | O40: 1.63 | P40: 1.68 | Q40: 1.33 | R40: 1.18 | S40: 1.55 | T40: 1.84 | U40: 2.53 | V40: 2.7 | W40: 1.97 | X40: 2.6 | Y40: 3.03 | Z40: 3.36 | AA40: 3.14 | AB40: 2.42 | AC40: 2 | AD40: 2.25 | AE40: 2.55 | AF40: 2.41 | AG40: 2.47 | AH40: 2.54 | AI40: 4.8 | AJ40: 4.38 | AK40: 3.99 | AL40: 3.0956463 | AM40: 3.1 | AN40: 3.1213078 | AO40: 3.2107123 | AP40: 3.2313134 | AQ40: 3.2272879 | AR40: 3.2181542 | AS40: 3.2134337 | AT40: 3.2132693 | AU40: 3.2143238 | AV40: 3.215204
B42: Soybeans
B43: Area planted | C43: 1000 acres | D43: 500 | E43: 635 | F43: 700 | G43: 600 | H43: 640 | I43: 660 | J43: 850 | K43: 1150 | L43: 1500 | M43: 1350 | N43: 1900 | O43: 2150 | P43: 2670 | Q43: 3150 | R43: 3750 | S43: 2950 | T43: 3900 | U43: 3100 | V43: 3800 | W43: 3900 | X43: 4100 | Y43: 4000 | Z43: 4750 | AA43: 4650 | AB43: 5900 | AC43: 5750 | AD43: 6050 | AE43: 7100 | AF43: 6900 | AG43: 5600 | AH43: 5750 | AI43: 7250 | AJ43: 5700 | AK43: 6200 | AL43: 6600 | AM43: 6550 | AN43: 6578.0531 | AO43: 6606.4242 | AP43: 6618.1558 | AQ43: 6625.3197 | AR43: 6623.2803 | AS43: 6630.9965 | AT43: 6653.0787 | AU43: 6681.1324 | AV43: 6706.6212
B44: Area harvested | C44: 1000 acres | D44: 495 | E44: 630 | F44: 690 | G44: 540 | H44: 610 | I44: 640 | J44: 845 | K44: 1140 | L44: 1475 | M44: 1340 | N44: 1850 | O44: 2110 | P44: 2630 | Q44: 3050 | R44: 3570 | S44: 2900 | T44: 3870 | U44: 3060 | V44: 3760 | W44: 3870 | X44: 4070 | Y44: 3960 | Z44: 4730 | AA44: 4630 | AB44: 5870 | AC44: 5720 | AD44: 5990 | AE44: 7050 | AF44: 6840 | AG44: 5400 | AH44: 5700 | AI44: 7120 | AJ44: 5670 | AK44: 6160 | AL44: 6550 | AM44: 6500 | AN44: 6517.3006 | AO44: 6545.4097 | AP44: 6557.033 | AQ44: 6564.1307 | AR44: 6562.1101 | AS44: 6569.7551 | AT44: 6591.6333 | AU44: 6619.4279 | AV44: 6644.6813
B45: Yield | C45: bu/acre | D45: 26 | E45: 30.5 | F45: 25 | G45: 17 | H45: 31 | I45: 29 | J45: 29 | K45: 29.5 | L45: 32 | M45: 35 | N45: 32 | O45: 33.5 | P45: 33 | Q45: 29 | R45: 23 | S45: 36.5 | T45: 31.5 | U45: 35.5 | V45: 28 | W45: 30 | X45: 34 | Y45: 29 | Z45: 34.5 | AA45: 30.5 | AB45: 34.5 | AC45: 32.5 | AD45: 41.5 | AE45: 34.5 | AF45: 35 | AG45: 31.5 | AH45: 34 | AI45: 25.5 | AJ45: 35 | AK45: 35.5 | AL45: 37.5 | AM45: 37 | AN45: 36.75674 | AO45: 36.987404 | AP45: 37.254844 | AQ45: 37.550422 | AR45: 37.857425 | AS45: 38.108128 | AT45: 38.386892 | AU45: 38.644497 | AV45: 38.919093
B46: Production | C46: 1000 bushels | D46: 12870 | E46: 19215 | F46: 17250 | G46: 9180 | H46: 18910 | I46: 18560 | J46: 24505 | K46: 33630 | L46: 47200 | M46: 46900 | N46: 59200 | O46: 70685 | P46: 86790 | Q46: 88450 | R46: 82110 | S46: 105850 | T46: 121905 | U46: 108630 | V46: 105280 | W46: 116100 | X46: 138380 | Y46: 114840 | Z46: 163185 | AA46: 141215 | AB46: 202515 | AC46: 185900 | AD46: 248585 | AE46: 243225 | AF46: 239400 | AG46: 170100 | AH46: 193800 | AI46: 181560 | AJ46: 198450 | AK46: 218680 | AL46: 245625 | AM46: 240500 | AN46: 239554.73 | AO46: 242097.72 | AP46: 244281.24 | AQ46: 246485.88 | AR46: 248424.59 | AS46: 250361.06 | AT46: 253032.31 | AU46: 255804.46 | AV46: 258604.97
B47: Price | C47: $/bu | D47: 5.53 | E47: 5.4 | F47: 5.32 | G47: 6.12 | H47: 5.19 | I47: 6.49 | J47: 7.05 | K47: 6.1 | L47: 4.64 | M47: 4.19 | N47: 4.23 | O47: 4.05 | P47: 5.32 | Q47: 6.62 | R47: 5.75 | S47: 5.37 | T47: 5.98 | U47: 9.63 | V47: 9.71 | W47: 9.26 | X47: 10.9 | Y47: 11.9 | Z47: 14 | AA47: 12.4 | AB47: 9.49 | AC47: 8.49 | AD47: 8.97 | AE47: 8.88 | AF47: 7.98 | AG47: 7.93 | AH47: 10.2 | AI47: 12.6 | AJ47: 13.7 | AK47: 12 | AL47: 9.5431574 | AM47: 9.5431574 | AN47: 9.9371722 | AO47: 10.157728 | AP47: 10.2225 | AQ47: 10.101589 | AR47: 9.9983193 | AS47: 10.022397 | AT47: 10.11974 | AU47: 10.199314 | AV47: 10.181199
B49: Sugarbeets
...

Sheet Livestock
A1: TOC
B2: =+TOC!A90&" Livestock and Dairy" -> North Dakota Livestock and Dairy | D2: 1990 | E2: 1991 | F2: 1992 | G2: 1993 | H2: 1994 | I2: 1995 | J2: 1996 | K2: 1997 | L2: 1998 | M2: 1999 | N2: 2000 | O2: 2001 | P2: 2002 | Q2: 2003 | R2: 2004 | S2: 2005 | T2: 2006 | U2: 2007 | V2: 2008 | W2: 2009 | X2: 2010 | Y2: 2011 | Z2: 2012 | AA2: 2013 | AB2: 2014 | AC2: 2015 | AD2: 2016 | AE2: 2017 | AF2: 2018 | AG2: 2019 | AH2: 2020 | AI2: 2021 | AJ2: 2022 | AK2: 2023 | AL2: 2024 | AM2: 2025 | AN2: 2026 | AO2: 2027 | AP2: 2028 | AQ2: 2029 | AR2: 2030 | AS2: 2031 | AT2: 2032 | AU2: 2033 | AV2: 2034
B5: =+TOC!A90&" Cattle and Calves" -> North Dakota Cattle and Calves | D5: 1990 | E5: 1991 | F5: 1992 | G5: 1993 | H5: 1994 | I5: 1995 | J5: 1996 | K5: 1997 | L5: 1998 | M5: 1999 | N5: 2000 | O5: 2001 | P5: 2002 | Q5: 2003 | R5: 2004 | S5: 2005 | T5: 2006 | U5: 2007 | V5: 2008 | W5: 2009 | X5: 2010 | Y5: 2011 | Z5: 2012 | AA5: 2013 | AB5: 2014 | AC5: 2015 | AD5: 2016 | AE5: 2017 | AF5: 2018 | AG5: 2019 | AH5: 2020 | AI5: 2021 | AJ5: 2022 | AK5: 2023 | AL5: 2024 | AM5: 2025 | AN5: 2026 | AO5: 2027 | AP5: 2028 | AQ5: 2029 | AR5: 2030 | AS5: 2031 | AT5: 2032 | AU5: 2033 | AV5: 2034
C6: Units
B8: Inventory, Jan 1
B9: All cattle and calves | C9: 1000 head | D9: 1650 | E9: 1700 | F9: 1750 | G9: 1750 | H9: 1920 | I9: 1960 | J9: 1960 | K9: 1940 | L9: 1820 | M9: 1920 | N9: 1880 | O9: 1980 | P9: 1970 | Q9: 1880 | R9: 1750 | S9: 1710 | T9: 1720 | U9: 1850 | V9: 1810 | W9: 1760 | X9: 1720 | Y9: 1700 | Z9: 1690 | AA9: 1790 | AB9: 1750 | AC9: 1640 | AD9: 1710 | AE9: 1820 | AF9: 1860 | AG9: 1830 | AH9: 1880 | AI9: 1950 | AJ9: 1860 | AK9: 1740 | AL9: 1660 | AM9: 1680 | AN9: 1593.5745 | AO9: 1579.8923 | AP9: 1578.5415 | AQ9: 1593.8245 | AR9: 1617.3301 | AS9: 1637.4828 | AT9: 1652.2587 | AU9: 1650.1135 | AV9: 1649.4698
B10: Beef cows | C10: 1000 head | D10: 855 | E10: 875 | F10: 870 | G10: 875 | H10: 941 | I10: 975 | J10: 947 | K10: 950 | L10: 906 | M10: 980 | N10: 970 | O10: 1004 | P10: 1008 | Q10: 973 | R10: 937 | S10: 947 | T10: 937 | U10: 940 | V10: 924 | W10: 895 | X10: 869 | Y10: 880 | Z10: 862 | AA10: 922 | AB10: 923 | AC10: 894 | AD10: 904 | AE10: 954 | AF10: 964 | AG10: 975 | AH10: 995 | AI10: 965 | AJ10: 935 | AK10: 876 | AL10: 860 | AM10: 870 | AN10: 894.88118 | AO10: 918.69574 | AP10: 940.07242 | AQ10: 970.86114 | AR10: 1002.8584 | AS10: 1024.3578 | AT10: 1032.44 | AU10: 1026.6769 | AV10: 1008.8205
B11: Milk cows | C11: 1000 head | D11: 85 | E11: 85 | F11: 80 | G11: 75 | H11: 69 | I11: 65 | J11: 63 | K11: 60 | L11: 54 | M11: 50 | N11: 50 | O11: 46 | P11: 42 | Q11: 37 | R11: 33 | S11: 33 | T11: 33 | U11: 30 | V11: 26 | W11: 25 | X11: 21 | Y11: 20 | Z11: 18 | AA11: 18 | AB11: 17 | AC11: 16 | AD11: 16 | AE11: 16 | AF11: 16 | AG11: 15 | AH11: 15 | AI11: 15 | AJ11: 15 | AK11: 14 | AL11: 10 | AM11: 10 | AN11: 11.945564 | AO11: 12.210171 | AP11: 12.300783 | AQ11: 12.324639 | AR11: 12.362887 | AS11: 12.417085 | AT11: 12.473707 | AU11: 12.530659 | AV11: 12.589711
B13: Calves Per Cow | C13: ratio | D13: 1 | E13: 0.97916667 | F13: 0.96842105 | G13: 1.0210526 | H13: 0.97029703 | I13: 0.93269231 | J13: 0.96039604 | K13: 0.93069307 | L13: 1 | M13: 0.94174757 | N13: 0.98039216 | O13: 0.95238095 | P13: 0.95238095 | Q13: 0.95049505 | R13: 0.98969072 | S13: 0.94897959 | T13: 0.97938144 | U13: 0.95876289 | V13: 0.96842105 | W13: 0.9673913 | X13: 0.98876404 | Y13: 0.95555556 | Z13: 0.98863636 | AA13: 0.94680851 | AB13: 0.89361702 | AC13: 0.91208791 | AD13: 0.98913043 | AE13: 0.98969072 | AF13: 0.95918367 | AG13: 0.95959596 | AH13: 0.91089109 | AI13: 0.93877551 | AJ13: 0.89473684 | AK13: 0.94382022 | AL13: 0.97701149 | AM13: 0.95852285 | AN13: 0.95852285 | AO13: 0.95852285 | AP13: 0.95852285 | AQ13: 0.95852285 | AR13: 0.95852285 | AS13: 0.95852285 | AT13: 0.95852285 | AU13: 0.95852285 | AV13: 0.95852285
B15: Calf crop | C15: 1000 head | D15: 940 | E15: 940 | F15: 920 | G15: 970 | H15: 980 | I15: 970 | J15: 970 | K15: 940 | L15: 960 | M15: 970 | N15: 1000 | O15: 1000 | P15: 1000 | Q15: 960 | R15: 960 | S15: 930 | T15: 950 | U15: 930 | V15: 920 | W15: 890 | X15: 880 | Y15: 860 | Z15: 870 | AA15: 890 | AB15: 840 | AC15: 830 | AD15: 910 | AE15: 960 | AF15: 940 | AG15: 950 | AH15: 920 | AI15: 920 | AJ15: 850 | AK15: 840 | AL15: 850 | AM15: 843.50011 | AN15: 869.21416 | AO15: 892.29459 | AP15: 912.87148 | AQ15: 942.40603 | AR15: 973.11276 | AS15: 993.7724 | AT15: 1001.5736 | AU15: 996.10424 | AV15: 979.04506
B16: Inshipments | C16: 1000 head | D16: 80 | E16: 70 | F16: 100 | G16: 100 | H16: 90 | I16: 90 | J16: 90 | K16: 80 | L16: 80 | M16: 80 | N16: 95 | O16: 113 | P16: 112 | Q16: 85 | R16: 85 | S16: 115 | T16: 150 | U16: 140 | V16: 100 | W16: 88 | X16: 102 | Y16: 115 | Z16: 130 | AA16: 110 | AB16: 124 | AC16: 120 | AD16: 115 | AE16: 115 | AF16: 115 | AG16: 140 | AH16: 150 | AI16: 120 | AJ16: 117 | AK16: 100 | AL16: 120 | AM16: 120 | AN16: 120 | AO16: 120 | AP16: 120 | AQ16: 120 | AR16: 120 | AS16: 120 | AT16: 120 | AU16: 120 | AV16: 120
B17: Marketings | C17: 1000 head | D17: 903 | E17: 884 | F17: 957 | G17: 824 | H17: 953 | I17: 980 | J17: 1002 | K17: 1002 | L17: 878 | M17: 1022 | N17: 926 | O17: 1057 | P17: 1131 | Q17: 1113 | R17: 1031 | S17: 981 | T17: 913.5 | U17: 1053.5 | V17: 1014.5 | W17: 921.5 | X17: 945.5 | Y17: 912.5 | Z17: 836.7 | AA17: 971.3 | AB17: 1013.2 | AC17: 826.6 | AD17: 854.7 | AE17: 974.9 | AF17: 1025 | AG17: 974 | AH17: 941 | AI17: 1077 | AJ17: 1019 | AK17: 964 | AL17: 894.1 | AM17: 989.51989 | AN17: 943.32404 | AO17: 953.60617 | AP17: 956.92664 | AQ17: 977.01765 | AR17: 1009.6629 | AS17: 1034.6653 | AT17: 1058.8608 | AU17: 1052.1031 | AV17: 1035.9507
B18: Cattle | C18: 1000 head | D18: 413 | E18: 434 | F18: 477 | G18: 376 | H18: 487 | I18: 559 | J18: 561 | K18: 541 | L18: 657 | M18: 791 | N18: 740 | O18: 866 | P18: 955 | Q18: 947 | R18: 870 | S18: 830 | T18: 805 | U18: 928 | V18: 904 | W18: 814 | X18: 844 | Y18: 814 | Z18: 744 | AA18: 872.5 | AB18: 912.2 | AC18: 728 | AD18: 749.5 | AE18: 864.6 | AF18: 915 | AG18: 870.3 | AH18: 839.2 | AI18: 974.3 | AJ18: 917.2 | AK18: 863.5 | AL18: 792.5 | AM18: 884.22115 | AN18: 836.34933 | AO18: 846.48115 | AP18: 850.76636 | AQ18: 871.09188 | AR18: 903.70855 | AS18: 928.68139 | AT18: 953.02947 | AU18: 946.62843 | AV18: 930.93076
B19: Calves | C19: 1000 head | D19: 490 | E19: 450 | F19: 480 | G19: 448 | H19: 466 | I19: 421 | J19: 441 | K19: 461 | L19: 221 | M19: 231 | N19: 186 | O19: 191 | P19: 176 | Q19: 166 | R19: 161 | S19: 151 | T19: 108.5 | U19: 125.5 | V19: 110.5 | W19: 107.5 | X19: 101.5 | Y19: 98.5 | Z19: 92.7 | AA19: 98.8 | AB19: 101 | AC19: 98.6 | AD19: 105.2 | AE19: 110.3 | AF19: 110 | AG19: 103.7 | AH19: 101.8 | AI19: 102.7 | AJ19: 101.8 | AK19: 100.5 | AL19: 101.6 | AM19: 105.29874 | AN19: 106.97471 | AO19: 107.12501 | AP19: 106.16028 | AQ19: 105.92577 | AR19: 105.95434 | AS19: 105.98389 | AT19: 105.83137 | AU19: 105.47471 | AV19: 105.01997
B20: Farm Slaughter | C20: 1000 head | D20: 4 | E20: 4 | F20: 3 | G20: 3 | H20: 3 | I20: 3 | J20: 3 | K20: 3 | L20: 3 | M20: 3 | N20: 3 | O20: 3 | P20: 3 | Q20: 2 | R20: 2 | S20: 2 | T20: 1.5 | U20: 1.5 | V20: 1.5 | W20: 1.5 | X20: 1.5 | Y20: 1.5 | Z20: 1.3 | AA20: 0.7 | AB20: 0.8 | AC20: 1.4 | AD20: 1.3 | AE20: 1.1 | AF20: 1 | AG20: 1 | AH20: 1 | AI20: 1 | AJ20: 1 | AK20: 1 | AL20: 0.9 | AM20: 0.9 | AN20: 0.9 | AO20: 0.9 | AP20: 0.9 | AQ20: 0.9 | AR20: 0.9 | AS20: 0.9 | AT20: 0.9 | AU20: 0.9 | AV20: 0.9
B21: Death loss | C21: 1000 head | D21: 63 | E21: 72 | F21: 60 | G21: 73 | H21: 74 | I21: 77 | J21: 75 | K21: 135 | L21: 59 | M21: 65 | N21: 66 | O21: 63 | P21: 68 | Q21: 60 | R21: 52 | S21: 52 | T21: 55 | U21: 55 | V21: 54 | W21: 95 | X21: 55 | Y21: 71 | Z21: 62 | AA21: 68 | AB21: 60 | AC21: 52 | AD21: 59 | AE21: 59 | AF21: 59 | AG21: 65 | AH21: 58 | AI21: 52 | AJ21: 67 | AK21: 55 | AL21: 55 | AM21: 59.505732 | AN21: 58.672322 | AO21: 59.13924 | AP21: 59.761783 | AQ21: 60.982829 | AR21: 62.397161 | AS21: 63.431224 | AT21: 63.957965 | AU21: 63.744871 | AV21: 63.195216
B22: Cattle | C22: 1000 head | D22: 18 | E22: 19 | F22: 17 | G22: 19 | H22: 21 | I22: 19 | J22: 20 | K22: 45 | L22: 19 | M22: 20 | N22: 21 | O22: 19 | P22: 17 | Q22: 15 | R22: 12 | S22: 12 | T22: 15 | U22: 15 | V22: 15 | W22: 25 | X22: 15 | Y22: 21 | Z22: 17 | AA22: 18 | AB22: 15 | AC22: 14 | AD22: 17 | AE22: 17 | AF22: 16 | AG22: 18 | AH22: 17 | AI22: 16 | AJ22: 17 | AK22: 15 | AL22: 15 | AM22: 16.332369 | AN22: 14.199914 | AO22: 13.500833 | AP22: 13.083854 | AQ22: 12.812846 | AR22: 12.675908 | AS22: 12.666268 | AT22: 12.798899 | AU22: 12.862113 | AV22: 13.17427
B23: Calves | C23: 1000 head | D23: 45 | E23: 53 | F23: 43 | G23: 54 | H23: 53 | I23: 58 | J23: 55 | K23: 90 | L23: 40 | M23: 45 | N23: 45 | O23: 44 | P23: 51 | Q23: 45 | R23: 40 | S23: 40 | T23: 40 | U23: 40 | V23: 39 | W23: 70 | X23: 40 | Y23: 50 | Z23: 45 | AA23: 50 | AB23: 45 | AC23: 38 | AD23: 42 | AE23: 42 | AF23: 43 | AG23: 47 | AH23: 41 | AI23: 36 | AJ23: 50 | AK23: 40 | AL23: 40 | AM23: 43.173362 | AN23: 44.472408 | AO23: 45.638407 | AP23: 46.677929 | AQ23: 48.169982 | AR23: 49.721253 | AS23: 50.764956 | AT23: 51.159065 | AU23: 50.882758 | AV23: 50.020946
B25: Average Slaughter Weight (liveweight basis)
B26: Cattle | C26: lbs per head | D26: 1274 | E26: 1310.755 | F26: 1334.4896 | G26: 1324.5852 | H26: 1381.5114 | I26: 1431.088 | J26: 1392.6305 | K26: 1374.9946 | L26: 1544.5064 | M26: 1563.4413 | N26: 1131 | O26: 1122 | P26: 1136 | Q26: 1199.9924 | R26: 1190.0861 | S26: 1176 | T26: 1195 | U26: 1182 | V26: 1227 | W26: 1230 | X26: 1246 | Y26: 1320 | Z26: 1299 | AA26: 1223 | AB26: 1229 | AC26: 1267 | AD26: 1306 | AE26: 1279 | AF26: 1303 | AG26: 1290 | AH26: 1302 | AI26: 1300 | AJ26: 1289 | AK26: 1278 | AL26: 1297 | AM26: 1291.3497 | AN26: 1293.0245 | AO26: 1294.6993 | AP26: 1296.3741 | AQ26: 1298.049 | AR26: 1299.7238 | AS26: 1301.3986 | AT26: 1303.0734 | AU26: 1304.7483 | AV26: 1306.4231
B27: Calves | C27: lbs per head | D27: 450 | E27: 450 | F27: 450 | G27: 450 | H27: 450 | I27: 450 | J27: 450 | K27: 450 | L27: 450 | M27: 450 | N27: 450 | O27: 450 | P27: 450 | Q27: 450 | R27: 450 | S27: 450 | T27: 450 | U27: 0 | V27: 450 | W27: 450 | X27: 450 | Y27: 450 | Z27: 450 | AA27: 450 | AB27: 450 | AC27: 450 | AD27: 450 | AE27: 450 | AF27: 450 | AG27: 450 | AH27: 450 | AI27: 450 | AJ27: 450 | AK27: 450 | AL27: 450 | AM27: 450 | AN27: 450 | AO27: 450 | AP27: 450 | AQ27: 450 | AR27: 450 | AS27: 450 | AT27: 450 | AU27: 450 | AV27: 450
B29: Marketings (liveweight basis) | C29: mil pounds | D29: 512.35 | E29: 516.04 | F29: 568.77 | G29: 486.09 | H29: 586.35 | I29: 624.6 | J29: 621.46 | K29: 613.59 | L29: 603.94 | M29: 711.61 | N29: 614.98 | O29: 736.82 | P29: 836.925 | Q29: 870 | R29: 799.25 | S29: 782.25 | T29: 746.44 | U29: 848.39 | V29: 830.3 | W29: 744.383 | X29: 774.23 | Y29: 772.12 | Z29: 702.4 | AA29: 815.46 | AB29: 861.5 | AC29: 694.15 | AD29: 715.575 | AE29: 822.1 | AF29: 866.48 | AG29: 822.488 | AH29: 794.425 | AI29: 915.773 | AJ29: 864.625 | AK29: 816.05 | AL29: 752.485 | AM29: 838.83747 | AN29: 796.41084 | AO29: 806.7828 | AP29: 811.43248 | AQ29: 831.13168 | AR29: 862.32319 | AS29: 886.51903 | AT29: 910.13719 | AU29: 905.21924 | AV29: 891.61825
B31: Prices
B32: Fed Steer Price, Nebraska Direct | C32: $/CWT | D32: 78.547185 | E32: 74.37634 | F32: 75.589829 | G32: 76.807719 | H32: 69.431279 | I32: 66.690458 | J32: 65.024151 | K32: 66.036172 | L32: 61.68801 | M32: 65.756907 | N32: 69.14387 | O32: 72.402628 | P32: 67.270833 | Q32: 83.884167 | R32: 84.736667 | S32: 87.700833 | T32: 85.941667 | U32: 92.609167 | V32: 92.7775 | W32: 83.250833 | X32: 95.38 | Y32: 114.725 | Z32: 122.85833 | AA32: 125.88583 | AB32: 154.55917 | AC32: 148.12 | AD32: 120.86 | AE32: 121.52 | AF32: 117.12 | AG32: 116.78 | AH32: 108.51 | AI32: 122.4 | AJ32: 144.4 | AK32: 175.54 | AL32: 187.12 | AM32: 226.77461 | AN32: 236.28979 | AO32: 233.84109 | AP32: 219.03861 | AQ32: 209.07509 | AR32: 200.76607 | AS32: 193.49309 | AT32: 187.08167 | AU32: 181.19323 | AV32: 175.93305
B33: Feeder Steer Price, Oklahoma City | C33: $/CWT | D33: 92.14583 | E33: 92.74083 | F33: 86.46667 | G33: 91.72167 | H33: 83.24167 | I33: 70.4925 | J33: 61.305 | K33: 81.3425 | L33: 78.13167 | M33: 82.64 | N33: 94.3075 | O33: 95.343333 | P33: 86.340833 | Q33: 95.21 | R33: 111.78667 | S33: 120.09583 | T33: 117.67917 | U33: 115.47417 | V33: 107.62 | W33: 101.89183 | X33: 115.39667 | Y33: 141.24667 | Z33: 158.185 | AA33: 158.83833 | AB33: 225.06917 | AC33: 226.52 | AD33: 153.44 | AE33: 155.815 | AF33: 159.2 | AG33: 153.65 | AH33: 145.82 | AI33: 157.65 | AJ33: 181.51 | AK33: 242.98784 | AL33: 282.75151 | AM33: 357.62682 | AN33: 371.86123 | AO33: 358.88335 | AP33: 330.44245 | AQ33: 311.08457 | AR33: 295.67041 | AS33: 283.94179 | AT33: 273.9205 | AU33: 264.45813 | AV33: 256.85434
B37: =+TOC!A90&" Hogs and Pigs" -> North Dakota Hogs and Pigs | D37: 1990 | E37: 1991 | F37: 1992 | G37: 1993 | H37: 1994 | I37: 1995 | J37: 1996 | K37: 1997 | L37: 1998 | M37: 1999 | N37: 2000 | O37: 2001 | P37: 2002 | Q37: 2003 | R37: 2004 | S37: 2005 | T37: 2006 | U37: 2007 | V37: 2008 | W37: 2009 | X37: 2010 | Y37: 2011 | Z37: 2012 | AA37: 2013 | AB37: 2014 | AC37: 2015 | AD37: 2016 | AE37: 2017 | AF37: 2018 | AG37: 2019 | AH37: 2020 | AI37: 2021 | AJ37: 2022 | AK37: 2023 | AL37: 2024 | AM37: 2025 | AN37: 2026 | AO37: 2027 | AP37: 2028 | AQ37: 2029 | AR37: 2030 | AS37: 2031 | AT37: 2032 | AU37: 2033 | AV37: 2034
C38: Units
B40: Dec 1, Preceding Year | C40: 1000 head | D40: 0 | E40: 265 | F40: 290 | G40: 290 | H40: 320 | I40: 245 | J40: 280 | K40: 200 | L40: 200 | M40: 205 | N40: 190 | O40: 185 | P40: 154 | Q40: 144 | R40: 150 | S40: 164 | T40: 157 | U40: 169 | V40: 182 | W40: 151 | X40: 155 | Y40: 143 | Z40: 149 | AA40: 135 | AB40: 135 | AC40: 140 | AD40: 137 | AE40: 146 | AF40: 147 | AG40: 145 | AH40: 142 | AI40: 143 | AJ40: 148 | AK40: 155 | AL40: 150 | AM40: 159.73559 | AN40: 151.06704 | AO40: 143.78931 | AP40: 137.80644 | AQ40: 133.08598 | AR40: 129.65917 | AS40: 127.47452 | AT40: 125.45303 | AU40: 123.52891 | AV40: 121.64965
B41: Breeding | C41: 1000 head | D41: 0 | E41: 34 | F41: 37 | G41: 35 | H41: 40 | I41: 25 | J41: 30 | K41: 20 | L41: 24 | M41: 30 | N41: 25 | O41: 27 | P41: 28 | Q41: 24 | R41: 30 | S41: 29 | T41: 31 | U41: 33 | V41: 37 | W41: 39 | X41: 38 | Y41: 37 | Z41: 40 | AA41: 35 | AB41: 35 | AC41: 34 | AD41: 31 | AE41: 34 | AF41: 35 | AG41: 35 | AH41: 35 | AI41: 36 | AJ41: 35 | AK41: 42 | AL41: 43 | AM41: 43.457393 | AN41: 43.662185 | AO41: 43.781613 | AP41: 43.979741 | AQ41: 44.044601 | AR41: 43.908463 | AS41: 43.607517 | AT41: 43.177508 | AU41: 42.64001 | AV41: 42.012399
B42: Total Market | C42: 1000 head | D42: 0 | E42: 231 | F42: 253 | G42: 255 | H42: 280 | I42: 220 | J42: 250 | K42: 180 | L42: 176 | M42: 175 | N42: 165 | O42: 158 | P42: 126 | Q42: 120 | R42: 120 | S42: 135 | T42: 126 | U42: 136 | V42: 145 | W42: 112 | X42: 117 | Y42: 106 | Z42: 109 | AA42: 100 | AB42: 100 | AC42: 106 | AD42: 106 | AE42: 112 | AF42: 112 | AG42: 110 | AH42: 107 | AI42: 107 | AJ42: 113 | AK42: 113 | AL42: 107 | AM42: 116.27819 | AN42: 107.40485 | AO42: 100.0077 | AP42: 93.826696 | AQ42: 89.041376 | AR42: 85.750708 | AS42: 83.867 | AT42: 82.275518 | AU42: 80.888896 | AV42: 79.637253
B44: Sows Farrowed | C44: 1000 head | D44: 0 | E44: 0 | F44: 0 | G44: 66 | H44: 49 | I44: 54 | J44: 42 | K44: 37 | L44: 52 | M44: 59 | N44: 60 | O44: 57 | P44: 52.5 | Q44: 45 | R44: 46 | S44: 48 | T44: 54.5 | U44: 62 | V44: 67.5 | W44: 74.5 | X44: 73 | Y44: 75 | Z44: 73.5 | AA44: 72 | AB44: 71.5 | AC44: 68 | AD44: 70.5 | AE44: 73.5 | AF44: 73.5 | AG44: 73 | AH44: 72 | AI44: 74 | AJ44: 86.5 | AK44: 86.5 | AL44: 81.720794 | AM44: 83.752336 | AN44: 84.68155 | AO44: 85.097593 | AP44: 85.340215 | AQ44: 85.742722 | AR44: 85.874487 | AS44: 85.597917 | AT44: 84.986532 | AU44: 84.112951 | AV44: 83.021001
B45: Pigs Per Litter | C45: pigs per litter | D45: 0 | E45: 0 | F45: 0 | G45: 7.7424242 | H45: 8.2040816 | I45: 8.4259259 | J45: 8.3333333 | K45: 8.4864865 | L45: 8.5576923 | M45: 8.7627119 | N45: 8.55 | O45: 8.3508772 | P45: 8.4571429 | Q45: 9.1555556 | R45: 9.5 | S45: 9.4791667 | T45: 9.5963303 | U45: 9.8548387 | V45: 9.8666667 | W45: 10.241611 | X45: 10.356164 | Y45: 10.826667 | Z45: 10.734694 | AA45: 10.652778 | AB45: 10.769231 | AC45: 10.823529 | AD45: 10.780142 | AE45: 11.129252 | AF45: 11.115646 | AG45: 10.986301 | AH45: 11.180556 | AI45: 11.148649 | AJ45: 11.514451 | AK45: 11.445087 | AL45: 11.988379 | AM45: 12.04787 | AN45: 12.107362 | AO45: 12.166853 | AP45: 12.226345 | AQ45: 12.285837 | AR45: 12.345328 | AS45: 12.40482 | AT45: 12.464311 | AU45: 12.523803 | AV45: 12.583295
B46: Pig Crop | C46: 1000 head | D46: 0 | E46: 0 | F46: 0 | G46: 511 | H46: 402 | I46: 455 | J46: 350 | K46: 314 | L46: 445 | M46: 517 | N46: 513 | O46: 476 | P46: 444 | Q46: 412 | R46: 437 | S46: 455 | T46: 523 | U46: 611 | V46: 666 | W46: 763 | X46: 756 | Y46: 812 | Z46: 789 | AA46: 767 | AB46: 770 | AC46: 736 | AD46: 760 | AE46: 818 | AF46: 817 | AG46: 802 | AH46: 805 | AI46: 825 | AJ46: 996 | AK46: 990 | AL46: 979.69982 | AM46: 1009.0373 | AN46: 1025.2702 | AO46: 1035.3699 | AP46: 1043.3989 | AQ46: 1053.4211 | AR46: 1060.1487 | AS46: 1061.8267 | AT46: 1059.2986 | AU46: 1053.414 | AV46: 1044.6777
B48: Inshipments | C48: 1000 head | D48: 19 | E48: 26 | F48: 29 | G48: 28 | H48: 32 | I48: 30 | J48: 25 | K48: 40 | L48: 55 | M48: 38 | N48: 35 | O48: 28 | P48: 20 | Q48: 31 | R48: 94 | S48: 91 | T48: 57 | U48: 50 | V48: 55 | W48: 50 | X48: 35 | Y48: 36 | Z48: 45 | AA48: 50 | AB48: 124 | AC48: 130 | AD48: 133 | AE48: 142 | AF48: 143.1 | AG48: 143.4 | AH48: 147.2 | AI48: 402 | AJ48: 40 | AK48: 327 | AL48: 334.14066 | AM48: 341.28132 | AN48: 348.42198 | AO48: 355.56264 | AP48: 362.7033 | AQ48: 369.84396 | AR48: 376.98462 | AS48: 384.12527 | AT48: 391.26593 | AU48: 398.40659 | AV48: 405.54725
B49: Marketings | C49: 1000 head | D49: 429 | E49: 425 | F49: 507 | G49: 483 | H49: 485 | I49: 432 | J49: 438 | K49: 340 | L49: 482 | M49: 548 | N49: 537 | O49: 520 | P49: 463 | Q49: 428 | R49: 505.6 | S49: 541 | T49: 555.4 | U49: 634.1 | V49: 737.9 | W49: 797.2 | X49: 792.4 | Y49: 831.5 | Z49: 838.1 | AA49: 807.7 | AB49: 878.9 | AC49: 860.6 | AD49: 875 | AE49: 947.5 | AF49: 951.8 | AG49: 937.6 | AH49: 938.9 | AI49: 1209.2 | AJ49: 1013.3 | AK49: 1305.5 | AL49: 1288.0109 | AM49: 1342.2973 | AN49: 1363.9512 | AO49: 1379.6924 | AP49: 1393.4351 | AQ49: 1409.1025 | AR49: 1421.5969 | AS49: 1430.2248 | AT49: 1434.7991 | AU49: 1436.1388 | AV49: 1434.7302
B50: Farm Slaughter | C50: 1000 head | D50: 2 | E50: 4 | F50: 9 | G50: 2 | H50: 2 | I50: 2 | J50: 2 | K50: 2 | L50: 2 | M50: 2 | N50: 2 | O50: 2 | P50: 2 | Q50: 2 | R50: 2 | S50: 2 | T50: 2 | U50: 2 | V50: 2 | W50: 2 | X50: 2 | Y50: 2 | Z50: 2 | AA50: 1 | AB50: 0.5 | AC50: 0.4 | AD50: 0.5 | AE50: 0.5 | AF50: 0.2 | AG50: 0.3 | AH50: 0.3 | AI50: 0.3 | AJ50: 0.3 | AK50: 0.5 | AL50: 0.5 | AM50: 0.5 | AN50: 0.5 | AO50: 0.5 | AP50: 0.5 | AQ50: 0.5 | AR50: 0.5 | AS50: 0.5 | AT50: 0.5 | AU50: 0.5 | AV50: 0.5
B51: Death Loss | C51: 1000 head | D51: 20 | E51: 37 | F51: 27 | G51: 24 | H51: 22 | I51: 16 | J51: 15 | K51: 12 | L51: 11 | M51: 20 | N51: 14 | O51: 13 | P51: 9 | Q51: 7 | R51: 9.4 | S51: 10 | T51: 10.6 | U51: 11.9 | V51: 12.1 | W51: 9.8 | X51: 8.6 | Y51: 8.5 | Z51: 7.9 | AA51: 8.3 | AB51: 9.6 | AC51: 8 | AD51: 8.5 | AE51: 11 | AF51: 10.1 | AG51: 10.5 | AH51: 12 | AI51: 12.5 | AJ51: 15.4 | AK51: 16 | AL51: 15.593996 | AM51: 16.189893 | AN51: 16.518647 | AO51: 16.723031 | AP51: 16.887573 | AQ51: 17.089313 | AR51: 17.221144 | AS51: 17.248685 | AT51: 17.189522 | AU51: 17.061081 | AV51: 16.873802
B53: Average Slaughter Weight (liveweight basis) | C53: lbs per head | D53: 216 | E53: 224 | F53: 231 | G53: 229 | H53: 230 | I53: 230 | J53: 239 | K53: 242 | L53: 239 | M53: 240 | N53: 235 | O53: 233 | P53: 229 | Q53: 230 | R53: 238 | S53: 238 | T53: 246 | U53: 250 | V53: 257 | W53: 258 | X53: 259 | Y53: 257 | Z53: 296 | AA53: 288 | AB53: 290 | AC53: 287 | AD53: 296 | AE53: 298 | AF53: 292 | AG53: 302 | AH53: 295 | AI53: 292 | AJ53: 309 | AK53: 295 | AL53: 292 | AM53: 300.66667 | AN53: 301.66667 | AO53: 302.66667 | AP53: 303.66667 | AQ53: 304.66667 | AR53: 305.66667 | AS53: 306.66667 | AT53: 307.66667 | AU53: 308.66667 | AV53: 309.66667
B55: Marketings (liveweight basis) | C55: mil pounds | D55: 88.83 | E55: 85.735 | F55: 103.33 | G55: 104.38 | H55: 102.387 | I55: 106.137 | J55: 103.35 | K55: 75.311 | L55: 96.248 | M55: 100.63 | N55: 102.39 | O55: 97.84 | P55: 82.04 | Q55: 63.414 | R55: 69.688 | S55: 70.647 | T55: 65.893 | U55: 57.812 | V55: 61.019 | W55: 69.228 | X55: 64.344 | Y55: 67.63 | Z55: 62.29 | AA55: 57.543 | AB55: 68.312 | AC55: 72.805 | AD55: 57.455 | AE55: 62.395 | AF55: 101.525 | AG55: 99.723 | AH55: 99.857 | AI55: 93.699 | AJ55: 84.109 | AK55: 103.566 | AL55: 118.16125 | AM55: 130.31793 | AN55: 133.73548 | AO55: 136.65537 | AP55: 139.41597 | AQ55: 142.35872 | AR55: 145.03895 | AS55: 147.61379 | AT55: 149.84771 | AU55: 151.81092 | AV55: 153.54478
B57: Hog Price, 51-52% lean, US | C57: $/CWT | D57: 57.750833 | E57: 51.785833 | F57: 44.869167 | G57: 48.165833 | H57: 42.0025 | I57: 44.624167 | J57: 56.535833 | K57: 54.3 | L57: 34.718333 | M57: 34 | N57: 44.693333 | O57: 45.8075 | P57: 34.913817 | Q57: 39.451867 | R57: 52.498683 | S57: 50.015367 | T57: 47.2564 | U57: 47.089283 | V57: 47.832983 | W57: 41.237733 | X57: 55.0597 | Y57: 66.114683 | Z57: 61.1277 | AA57: 64.046383 | AB57: 76.03315 | AC57: 50.230583 | AD57: 46.16 | AE57: 50.48 | AF57: 45.93 | AG57: 47.95 | AH57: 47.154675 | AI57: 67.529525 | AJ57: 72.088925 | AK57: 61.8488 | AL57: 63.405375 | AM57: 69.909775 | AN57: 68.285082 | AO57: 68.347228 | AP57: 67.51501 | AQ57: 67.306831 | AR57: 67.544393 | AS57: 67.85982 | AT57: 68.371825 | AU57: 68.945184 | AV57: 69.519353
...

Sheet Land
A1: TOC
B2: =+TOC!A90&" Land Use, Prices, and Rental Rates" -> North Dakota Land Use, Prices, and Rental Rates | D2: 1990 | E2: 1991 | F2: 1992 | G2: 1993 | H2: 1994 | I2: 1995 | J2: 1996 | K2: 1997 | L2: 1998 | M2: 1999 | N2: 2000 | O2: 2001 | P2: 2002 | Q2: 2003 | R2: 2004 | S2: 2005 | T2: 2006 | U2: 2007 | V2: 2008 | W2: 2009 | X2: 2010 | Y2: 2011 | Z2: 2012 | AA2: 2013 | AB2: 2014 | AC2: 2015 | AD2: 2016 | AE2: 2017 | AF2: 2018 | AG2: 2019 | AH2: 2020 | AI2: 2021 | AJ2: 2022 | AK2: 2023 | AL2: 2024 | AM2: 2025 | AN2: 2026 | AO2: 2027 | AP2: 2028 | AQ2: 2029 | AR2: 2030 | AS2: 2031 | AT2: 2032 | AU2: 2033 | AV2: 2034
C3: Units
B5: Total crop area
B6: Field crops | C6: 1000 acres | D6: 21363.2 | E6: 20636.9 | F6: 21172.7 | G6: 21338.9 | H6: 21081.5 | I6: 20169.2 | J6: 21985.3 | K6: 21962.5 | L6: 20602.6 | M6: 19262 | N6: 20882 | O6: 19912 | P6: 21478 | Q6: 21285 | R6: 20471 | S6: 20593 | T6: 20713 | U6: 21267 | V6: 22932 | W6: 20883 | X6: 20499 | Y6: 17745 | Z6: 22215 | AA6: 19854 | AB6: 22294 | AC6: 22931 | AD6: 23001 | AE6: 22835 | AF6: 23450 | AG6: 22345 | AH6: 19906 | AI6: 23211 | AJ6: 20826 | AK6: 23352 | AL6: 22361.9 | AM6: 23170 | AN6: 22791.229 | AO6: 22814.607 | AP6: 22830.262 | AQ6: 22835.449 | AR6: 22837.119 | AS6: 22839.035 | AT6: 22829.795 | AU6: 22817.349 | AV6: 22801.03
B7: Vegetables | C7: 1000 acres | D7: 720 | E7: 678 | F7: 586 | G7: 653 | H7: 703 | I7: 725 | J7: 714 | K7: 745 | L7: 876 | M7: 751 | N7: 734 | O7: 558 | P7: 908 | Q7: 657 | R7: 665 | S7: 712 | T7: 770 | U7: 787 | V7: 742 | W7: 693 | X7: 884 | Y7: 494 | Z7: 788 | AA7: 522 | AB7: 709 | AC7: 737 | AD7: 705 | AE7: 780 | AF7: 698.5 | AG7: 734 | AH7: 906.2 | AI7: 752.3 | AJ7: 658 | AK7: 627 | AL7: 803 | AM7: 674.54563 | AN7: 820.06518 | AO7: 809.32322 | AP7: 809.47886 | AQ7: 816.54712 | AR7: 821.59594 | AS7: 826.26961 | AT7: 830.7141 | AU7: 834.91897 | AV7: 839.35686
B8: Total crop area | C8: 1000 acres | D8: 22083.2 | E8: 21314.9 | F8: 21758.7 | G8: 21991.9 | H8: 21784.5 | I8: 20894.2 | J8: 22699.3 | K8: 22707.5 | L8: 21478.6 | M8: 20013 | N8: 21616 | O8: 20470 | P8: 22386 | Q8: 21942 | R8: 21136 | S8: 21305 | T8: 21483 | U8: 22054 | V8: 23674 | W8: 21576 | X8: 21383 | Y8: 18239 | Z8: 23003 | AA8: 20376 | AB8: 23003 | AC8: 23668 | AD8: 23706 | AE8: 23615 | AF8: 24148.5 | AG8: 23079 | AH8: 20812.2 | AI8: 23963.3 | AJ8: 21484 | AK8: 23979 | AL8: 23164.9 | AM8: 23844.546 | AN8: 23611.295 | AO8: 23623.931 | AP8: 23639.741 | AQ8: 23651.996 | AR8: 23658.715 | AS8: 23665.305 | AT8: 23660.509 | AU8: 23652.268 | AV8: 23640.387
B10: Conservation Reserve Program area | C10: 1000 acres | D10: 2865.7703 | E10: 2879.1175 | F10: 2897.8887 | G10: 2908.4289 | H10: 2908.4289 | I10: 2908.5887 | J10: 2836.5276 | K10: 2804.8722 | L10: 3290.5583 | M10: 3059.8922 | N10: 3164.191 | O10: 3320.775 | P10: 3322.932 | Q10: 3328.479 | R10: 3355.627 | S10: 3328.634 | T10: 3356.887 | U10: 3372.24 | V10: 2976.379 | W10: 2852.486 | X10: 2719.335 | Y10: 2647.964 | Z10: 2387.245 | AA10: 1780.545 | AB10: 1619.317 | AC10: 1523.711 | AD10: 1539.085 | AE10: 1528.686 | AF10: 1306.272 | AG10: 1295.115 | AH10: 1272.13 | AI10: 1235.24 | AJ10: 1244.348 | AK10: 1124.613 | AL10: 1145.42 | AM10: 1201.233 | AN10: 1213.5618 | AO10: 1211.7197 | AP10: 1213.831 | AQ10: 1208.2363 | AR10: 1203.812 | AS10: 1200.2007 | AT10: 1199.0843 | AU10: 1195.9098 | AV10: 1191.6951
B11: General Sign-Up | C11: 1000 acres | O11: 3208.653 | P11: 3198.771 | Q11: 3197.627 | R11: 3215.703 | S11: 3184.867 | T11: 3204.935 | U11: 3211.448 | V11: 2792.402 | W11: 2646.407 | X11: 2451.383 | Y11: 2342.105 | Z11: 2037.064 | AA11: 1350.333 | AB11: 1132.647 | AC11: 990.317 | AD11: 929.547 | AE11: 898.089 | AF11: 615.46 | AG11: 608.212 | AH11: 606.151 | AI11: 576.808 | AJ11: 526.48 | AK11: 286.398 | AL11: 261.367 | AM11: 260.229 | AN11: 263.79377 | AO11: 256.20161 | AP11: 258.88362 | AQ11: 248.04091 | AR11: 247.86854 | AS11: 240.48802 | AT11: 237.49035 | AU11: 230.88269 | AV11: 222.4523
B12: Continuous Sign-Up | C12: 1000 acres | O12: 112.122 | P12: 124.161 | Q12: 130.852 | R12: 139.924 | S12: 143.767 | T12: 151.952 | U12: 160.792 | V12: 183.977 | W12: 206.079 | X12: 267.952 | Y12: 305.859 | Z12: 350.181 | AA12: 430.212 | AB12: 486.67 | AC12: 533.394 | AD12: 609.538 | AE12: 619.759 | AF12: 668.531 | AG12: 661.466 | AH12: 640.542 | AI12: 605.813 | AJ12: 644.261 | AK12: 733.592 | AL12: 740.416 | AM12: 748.971 | AN12: 749.61748 | AO12: 750.26175 | AP12: 750.90408 | AQ12: 751.54449 | AR12: 746.78194 | AS12: 747.43472 | AT12: 748.08553 | AU12: 748.7344 | AV12: 749.38131
B13: Grasslands Sign-Up | C13: 1000 acres | AE13: 10.838 | AF13: 22.281 | AG13: 25.437 | AH13: 25.437 | AI13: 52.619 | AJ13: 73.607 | AK13: 104.623 | AL13: 143.637 | AM13: 192.033 | AN13: 200.15057 | AO13: 205.25637 | AP13: 204.04327 | AQ13: 208.65087 | AR13: 209.16153 | AS13: 212.27801 | AT13: 213.50845 | AU13: 216.29267 | AV13: 219.86151
B15: Total land use | C15: 1000 acres | D15: 24948.97 | E15: 24194.017 | F15: 24656.589 | G15: 24900.329 | H15: 24692.929 | I15: 23802.789 | J15: 25535.828 | K15: 25512.372 | L15: 24769.158 | M15: 23072.892 | N15: 24780.191 | O15: 23790.775 | P15: 25708.932 | Q15: 25270.479 | R15: 24491.627 | S15: 24633.634 | T15: 24839.887 | U15: 25426.24 | V15: 26650.379 | W15: 24428.486 | X15: 24102.335 | Y15: 20886.964 | Z15: 25390.245 | AA15: 22156.545 | AB15: 24622.317 | AC15: 25191.711 | AD15: 25245.085 | AE15: 25143.686 | AF15: 25454.772 | AG15: 24374.115 | AH15: 22084.33 | AI15: 25198.54 | AJ15: 22728.348 | AK15: 25103.613 | AL15: 24310.32 | AM15: 25045.779 | AN15: 24824.856 | AO15: 24835.65 | AP15: 24853.572 | AQ15: 24860.233 | AR15: 24862.527 | AS15: 24865.505 | AT15: 24859.594 | AU15: 24848.178 | AV15: 24832.082
B17: Land value
B18: All land including buildings | C18: $/acre | D18: 321 | E18: 337 | F18: 318 | G18: 335 | H18: 353 | I18: 373 | J18: 383 | K18: 390 | L18: 401 | M18: 400 | N18: 405 | O18: 410 | P18: 415 | Q18: 425 | R18: 460 | S18: 510 | T18: 580 | U18: 650 | V18: 770 | W18: 767 | X18: 821 | Y18: 930 | Z18: 1160 | AA18: 1550 | AB18: 1790 | AC18: 1870 | AD18: 1750 | AE18: 1740 | AF18: 1710 | AG18: 1710 | AH18: 1660 | AI18: 1730 | AJ18: 1920 | AK18: 2140 | AL18: 2260 | AM18: 2360 | AN18: 2346.6157 | AO18: 2332.9158 | AP18: 2347.4342 | AQ18: 2353.1088 | AR18: 2360.4406 | AS18: 2368.3695 | AT18: 2373.8402 | AU18: 2378.4672 | AV18: 2382.4466
B19: Cropland | C19: $/acre | K19: 427 | L19: 440 | M19: 440 | N19: 440 | O19: 445 | P19: 450 | Q19: 460 | R19: 490 | S19: 550 | T19: 610 | U19: 670 | V19: 810 | W19: 787 | X19: 840 | Y19: 987 | Z19: 1260 | AA19: 1750 | AB19: 2020 | AC19: 2080 | AD19: 1910 | AE19: 1890 | AF19: 1870 | AG19: 1890 | AH19: 1860 | AI19: 1960 | AJ19: 2200 | AK19: 2450 | AL19: 2600 | AM19: 2710 | AN19: 2693.2831 | AO19: 2677.6249 | AP19: 2694.2186 | AQ19: 2700.7043 | AR19: 2709.0842 | AS19: 2718.1465 | AT19: 2724.3992 | AU19: 2729.6875 | AV19: 2734.2357
B20: Pasture land | C20: $/acre | K20: 141 | L20: 144 | M20: 150 | N20: 155 | O20: 160 | P20: 165 | Q20: 170 | R20: 190 | S20: 220 | T20: 260 | U20: 300 | V20: 350 | W20: 344 | X20: 357 | Y20: 389 | Z20: 458 | AA20: 578 | AB20: 738 | AC20: 828 | AD20: 794 | AE20: 804 | AF20: 776 | AG20: 806 | AH20: 762 | AI20: 798 | AJ20: 871 | AK20: 987 | AL20: 1050 | AM20: 1140 | AN20: 1153.7047 | AO20: 1155.1807 | AP20: 1159.9656 | AQ20: 1163.5056 | AR20: 1167.0309 | AS20: 1170.7231 | AT20: 1173.7705 | AU20: 1176.3181 | AV20: 1178.48
B22: Rental rates
B23: Cropland | C23: $/acre | H23: 32.9 | I23: 33.1 | J23: 34 | K23: 35 | L23: 35 | M23: 35.5 | N23: 35.5 | O23: 36 | P23: 36.5 | Q23: 36.5 | R23: 37.5 | S23: 39 | T23: 39 | U23: 41 | V23: 42.5 | W23: 45.5 | X23: 46.5 | Y23: 51.5 | Z23: 58 | AA23: 65 | AB23: 68 | AC23: 69 | AD23: 68 | AE23: 65 | AF23: 65 | AG23: 70 | AH23: 70.5 | AI23: 73.5 | AJ23: 74 | AK23: 77 | AL23: 82.5 | AM23: 84 | AN23: 83.327093 | AO23: 82.850655 | AP23: 82.807162 | AQ23: 82.851585 | AR23: 82.952907 | AS23: 83.085735 | AT23: 83.204809 | AU23: 83.308484 | AV23: 83.398207
B24: Irrigated cropland | C24: $/acre | V24: 125 | W24: 122 | X24: 122 | Y24: 132 | Z24: 136 | AA24: 165 | AB24: 166 | AC24: 161 | AD24: 166 | AE24: 161 | AF24: 163 | AG24: 164 | AH24: 174 | AI24: 188 | AJ24: 188 | AK24: 189 | AL24: 192 | AM24: 191 | AN24: 195.22091 | AO24: 194.75007 | AP24: 194.60592 | AQ24: 194.67929 | AR24: 194.89416 | AS24: 195.18987 | AT24: 195.46714 | AU24: 195.71089 | AV24: 195.92229
B25: Non-irrigated cropland | C25: $/acre | V25: 42 | W25: 45 | X25: 46 | Y25: 51 | Z25: 57 | AA25: 64 | AB25: 67 | AC25: 68 | AD25: 67 | AE25: 64 | AF25: 64 | AG25: 69 | AH25: 69.5 | AI25: 72.5 | AJ25: 73 | AK25: 76 | AL25: 81.5 | AM25: 83 | AN25: 82.285006 | AO25: 81.822257 | AP25: 81.779177 | AQ25: 81.822567 | AR25: 81.921926 | AS25: 82.052296 | AT25: 82.169268 | AU25: 82.271131 | AV25: 82.35929
B26: Pasture land | C26: $/acre | H26: 8.3 | I26: 8 | J26: 8.5 | K26: 9 | L26: 9.2 | M26: 9.3 | N26: 9.5 | O26: 9.8 | P26: 9.7 | Q26: 9.8 | R26: 10.2 | S26: 10.6 | T26: 11.3 | U26: 12.5 | V26: 13.5 | W26: 14 | X26: 13 | Y26: 13.5 | Z26: 14 | AA26: 15 | AB26: 16 | AC26: 18 | AD26: 17 | AE26: 17 | AF26: 17 | AG26: 17.5 | AH26: 18 | AI26: 18.5 | AJ26: 19.5 | AK26: 20.5 | AL26: 21.5 | AM26: 23.5 | AN26: 23.892136 | AO26: 24.085104 | AP26: 24.199071 | AQ26: 24.273465 | AR26: 24.32934 | AS26: 24.377044 | AT26: 24.418356 | AU26: 24.45419 | AV26: 24.485252
B28: Conservation Reserve Program Rental Rates | C28: $/acre | D28: 38.41 | E28: 38.38 | F28: 38.35 | G28: 38.33 | H28: 38.33 | I28: 38.33 | J28: 38.25 | K28: 38.19 | L28: 34.76 | M28: 33.65 | N28: 32.93 | O28: 33.01 | P28: 33.05 | Q28: 33.08 | R28: 33.04 | S28: 33.1 | T28: 33.14 | U28: 33.24 | V28: 33.7 | W28: 34.04 | X28: 34.94 | Y28: 36.23 | Z28: 37.62 | AA28: 41.22 | AB28: 42.99 | AC28: 44.42 | AD28: 46.98 | AE28: 47.69 | AF28: 51.86 | AG28: 51.96 | AH28: 51.86 | AI28: 52.18 | AJ28: 54.01 | AK28: 61.47 | AL28: 61.96 | AM28: 59.316852 | AN28: 59.348451 | AO28: 59.628925 | AP28: 60.063969 | AQ28: 60.344586 | AR28: 60.585157 | AS28: 61.053928 | AT28: 61.544065 | AU28: 62.30252 | AV28: 62.717468
B29: General Sign-Up | C29: $/acre | O29: 32.74 | P29: 32.74 | Q29: NA | R29: 32.67 | S29: 32.71 | T29: 32.71 | U29: 32.77 | V29: 33.08 | W29: 33.1 | X29: 33.11 | Y29: 34.04 | Z29: 34.24 | AA29: 35.46 | AB29: 36.07 | AC29: 35.78 | AD29: 35.78 | AE29: 35.93 | AF29: 37.6 | AG29: 37.67 | AH29: 37.67 | AI29: 38.89 | AJ29: 40.68 | AK29: 47.15 | AL29: 47.87 | AM29: 45.357291 | AN29: 45.371364 | AO29: 45.162469 | AP29: 45.16322 | AQ29: 44.866401 | AR29: 44.759672 | AS29: 45.321259 | AT29: 46.084679 | AU29: 46.212712 | AV29: 46.198664
B30: Continuous Sign-Up | C30: $/acre | O30: 40.83 | P30: 40.71 | Q30: NA | R30: 40.61 | S30: 40.63 | T30: 40.87 | U30: 40.94 | V30: 43.22 | W30: 46.13 | X30: 51.7 | Y30: 53.06 | Z30: 57.28 | AA30: 59.3 | AB30: 59.1 | AC30: 60.46 | AD30: 64.05 | AE30: 65.25 | AF30: 66.15 | AG30: 66.46 | AH30: 66.68 | AI30: 67.99 | AJ30: 69.27 | AK30: 73.51 | AL30: 75.86 | AM30: 75.035246 | AN30: 75.483833 | AO30: 76.033839 | AP30: 76.609773 | AQ30: 77.077151 | AR30: 77.538655 | AS30: 77.996192 | AT30: 78.396593 | AU30: 79.438133 | AV30: 79.980977
B31: Grasslands Sign-Up | C31: $/acre | AE31: 17.84 | AF31: 17.02 | AG31: 16.83 | AH31: 16.83 | AI31: 15.89 | AJ31: 15.76 | AK31: 16.24 | AL31: 15.96 | AM31: 16.928621 | AN31: 17.338598 | AO31: 17.722069 | AP31: 18.078995 | AQ31: 18.475391 | AR31: 18.809189 | AS31: 19.223324 | AT31: 19.692433 | AU31: 20.159787 | AV31: 20.589561

Sheet Receipts
A1: TOC
B2: =+TOC!A90&" Cash Receipts from Farming" -> North Dakota Cash Receipts from Farming | D2: 1990 | E2: 1991 | F2: 1992 | G2: 1993 | H2: 1994 | I2: 1995 | J2: 1996 | K2: 1997 | L2: 1998 | M2: 1999 | N2: 2000 | O2: 2001 | P2: 2002 | Q2: 2003 | R2: 2004 | S2: 2005 | T2: 2006 | U2: 2007 | V2: 2008 | W2: 2009 | X2: 2010 | Y2: 2011 | Z2: 2012 | AA2: 2013 | AB2: 2014 | AC2: 2015 | AD2: 2016 | AE2: 2017 | AF2: 2018 | AG2: 2019 | AH2: 2020 | AI2: 2021 | AJ2: 2022 | AK2: 2023 | AL2: 2024 | AM2: 2025 | AN2: 2026 | AO2: 2027 | AP2: 2028 | AQ2: 2029 | AR2: 2030 | AS2: 2031 | AT2: 2032 | AU2: 2033 | AV2: 2034
B4: million dollars
B5: All commodities | D5: 2376.515 | E5: 2505.689 | F5: 2889.641 | G5: 2947.285 | H5: 3014.948 | I5: 3109.408 | J5: 3441.744 | K5: 3321.046 | L5: 2937.362 | M5: 2733.24 | N5: 2770.609 | O5: 2980.98 | P5: 3337.975 | Q5: 3842.948 | R5: 3871.372 | S5: 3882.981 | T5: 4111.738 | U5: 5850.302 | V5: 6909.594 | W5: 6625.803 | X5: 6787.997 | Y5: 7393.256 | Z5: 9188.953 | AA5: 8850.913 | AB5: 8685.168 | AC5: 7103.186 | AD5: 8128.899 | AE5: 7841.596 | AF5: 7708.64 | AG5: 7498.81 | AH5: 7375.737 | AI5: 9078.601 | AJ5: 11345.702 | AK5: 11830.96 | AL5: 11120.303 | AM5: 11287.107 | AN5: 11409.768 | AO5: 11541.485 | AP5: 11666.779 | AQ5: 11686.285 | AR5: 11710.073 | AS5: 11765.997 | AT5: 11871.504 | AU5: 11943.939 | AV5: 11965.951
B7: Crops | D7: 1732.712 | E7: 1879.842 | F7: 2239.635 | G7: 2349.334 | H7: 2395.061 | I7: 2536.297 | J7: 2898.185 | K7: 2722.804 | L7: 2349.233 | M7: 2061.138 | N7: 2109.355 | O7: 2193.074 | P7: 2540.455 | Q7: 2983.579 | R7: 2943.642 | S7: 2899.731 | T7: 3222.982 | U7: 4878.026 | V7: 6000.9 | W7: 5829.346 | X7: 5829.361 | Y7: 6266.853 | Z7: 8084.494 | AA7: 7570.982 | AB7: 7024.438 | AC7: 5790.581 | AD7: 7035.167 | AE7: 6598.928 | AF7: 6440.163 | AG7: 6309.75 | AH7: 6259.594 | AI7: 7693.782 | AJ7: 9782.253 | AK7: 10097.231 | AL7: 9428.393 | AM7: 9006.3113 | AN7: 9113.9819 | AO7: 9250.3125 | AP7: 9486.7558 | AQ7: 9556.0935 | AR7: 9587.4754 | AS7: 9656.9811 | AT7: 9772.7772 | AU7: 9905.7255 | AV7: 10001.969
B8: Feed crops | D8: 342.208 | E8: 336.775 | F8: 380.004 | G8: 315.356 | H8: 358.552 | I8: 391.257 | J8: 498.249 | K8: 441.97 | L8: 350.742 | M8: 314.027 | N8: 327.776 | O8: 344.16 | P8: 389.654 | Q8: 517.385 | R8: 568.617 | S8: 415.558 | T8: 488.678 | U8: 840.832 | V8: 1416.676 | W8: 1255.503 | X8: 997.986 | Y8: 1352.67 | Z8: 2005.453 | AA8: 2218.722 | AB8: 1658.138 | AC8: 1252.728 | AD8: 1483.748 | AE8: 1495.963 | AF8: 1552.578 | AG8: 1520.942 | AH8: 1325.373 | AI8: 1725.784 | AJ8: 2485.373 | AK8: 2311.265 | AL8: 2464.062 | AM8: 2320.7028 | AN8: 2404.3971 | AO8: 2410.1237 | AP8: 2514.7227 | AQ8: 2524.546 | AR8: 2528.5568 | AS8: 2543.3981 | AT8: 2575.0093 | AU8: 2616.6383 | AV8: 2645.0234
B9: Barley | D9: 225.057 | E9: 200.642 | F9: 237.281 | G9: 174.885 | H9: 215.103 | I9: 230.057 | J9: 293.159 | K9: 218.818 | L9: 148.453 | M9: 128.575 | N9: 115.719 | O9: 147.014 | P9: 129.405 | Q9: 228.427 | R9: 214.857 | S9: 152.076 | T9: 110.782 | U9: 245.221 | V9: 328.203 | W9: 341.572 | X9: 229.304 | Y9: 150.054 | Z9: 256.018 | AA9: 289.741 | AB9: 215.501 | AC9: 264.691 | AD9: 229.474 | AE9: 163.25 | AF9: 123.414 | AG9: 120.742 | AH9: 133.357 | AI9: 139.612 | AJ9: 237.103 | AK9: 255.783 | AL9: 220.083 | AM9: 127.88043 | AN9: 125.9112 | AO9: 130.72655 | AP9: 138.93267 | AQ9: 140.42012 | AR9: 140.34569 | AS9: 141.19163 | AT9: 143.419 | AU9: 145.80792 | AV9: 147.92027
B10: Corn | D10: 68.656 | E10: 82.352 | F10: 78.988 | G10: 49.809 | H10: 59.999 | I10: 103.409 | J10: 133.003 | K10: 122.811 | L10: 124.501 | M10: 123.357 | N10: 145.943 | O10: 125.802 | P10: 192.249 | Q10: 216.467 | R10: 256.372 | S10: 192.328 | T10: 309.489 | U10: 508.934 | V10: 993.1 | W10: 830.692 | X10: 708.352 | Y10: 1122.104 | Z10: 1638.057 | AA10: 1765.753 | AB10: 1298.479 | AC10: 876.972 | AD10: 1176.96 | AE10: 1256.444 | AF10: 1343.113 | AG10: 1294.311 | AH10: 1088.075 | AI10: 1471.804 | AJ10: 2077.006 | AK10: 1894.374 | AL10: 2115.124 | AM10: 2055.0153 | AN10: 2152.72 | AO10: 2157.0898 | AP10: 2247.4878 | AQ10: 2249.9032 | AR10: 2249.556 | AS10: 2260.5854 | AT10: 2288.128 | AU10: 2326.6716 | AV10: 2353.7549
B11: Hay | D11: 33.056 | E11: 36.535 | F11: 43.545 | G11: 69.189 | H11: 62.511 | I11: 40.213 | J11: 58.682 | K11: 90.669 | L11: 68.449 | M11: 55.486 | N11: 60.667 | O11: 63.861 | P11: 59.18 | Q11: 62.859 | R11: 88.396 | S11: 64.232 | T11: 60.261 | U11: 73.153 | V11: 74.994 | W11: 75.875 | X11: 51.44 | Y11: 74.984 | Z11: 103.948 | AA11: 151.374 | AB11: 129.988 | AC11: 95.356 | AD11: 70.54 | AE11: 65.294 | AF11: 78.998 | AG11: 90.532 | AH11: 89.66 | AI11: 100.727 | AJ11: 118.8 | AK11: 127.149 | AL11: 93.292 | AM11: 100.10365 | AN11: 100.94884 | AO11: 101.51876 | AP11: 107.56446 | AQ11: 113.52615 | AR11: 118.04429 | AS11: 121.11774 | AT11: 123.10519 | AU11: 123.96569 | AV11: 123.28133
B12: Oats | D12: 15.439 | E12: 17.246 | F12: 20.19 | G12: 21.473 | H12: 20.939 | I12: 17.578 | J12: 13.405 | K12: 9.673 | L12: 9.339 | M12: 6.609 | N12: 5.447 | O12: 7.483 | P12: 8.821 | Q12: 9.632 | R12: 8.993 | S12: 6.922 | T12: 8.147 | U12: 13.523 | V12: 20.38 | W12: 7.364 | X12: 8.89 | Y12: 5.528 | Z12: 7.43 | AA12: 11.855 | AB12: 14.17 | AC12: 15.71 | AD12: 6.774 | AE12: 10.976 | AF12: 7.054 | AG12: 15.357 | AH12: 14.28 | AI12: 13.64 | AJ12: 52.464 | AK12: 33.959 | AL12: 35.564 | AM12: 37.703424 | AN12: 24.817064 | AO12: 20.788575 | AP12: 20.737745 | AQ12: 20.696509 | AR12: 20.610797 | AS12: 20.503321 | AT12: 20.357138 | AU12: 20.1931 | AV12: 20.066862
B13: Other feed grains | D13: 0 | E13: 0 | F13: 0 | G13: 0 | H13: 0 | I13: 0 | J13: 0 | K13: -0.001 | L13: 0 | M13: 0 | N13: 0 | O13: 0 | P13: -0.001 | Q13: 0 | R13: -0.001 | S13: 0 | T13: -0.001 | U13: 0.001 | V13: -0.001 | W13: 0 | X13: 0 | Y13: 0 | Z13: 0 | AA13: -0.001 | AB13: 0 | AC13: -0.001 | AD13: 0 | AE13: -0.001 | AF13: -0.001 | AG13: 0 | AH13: 0.001 | AI13: 0.001 | AJ13: 0 | AK13: 0 | AL13: -0.001 | AM13: 0 | AN13: 0 | AO13: 0 | AP13: 0 | AQ13: 0 | AR13: 0 | AS13: 0 | AT13: 0 | AU13: 0 | AV13: 0
